BEGIN:VCALENDAR
VERSION:2.0
PRODID:-//Laura Yon - ECPv6.15.20//NONSGML v1.0//EN
CALSCALE:GREGORIAN
METHOD:PUBLISH
X-ORIGINAL-URL:https://laurayon.com
X-WR-CALDESC:Events for Laura Yon
REFRESH-INTERVAL;VALUE=DURATION:PT1H
X-Robots-Tag:noindex
X-PUBLISHED-TTL:PT1H
BEGIN:VTIMEZONE
TZID:America/Los_Angeles
BEGIN:DAYLIGHT
TZOFFSETFROM:-0800
TZOFFSETTO:-0700
TZNAME:PDT
DTSTART:20250309T100000
END:DAYLIGHT
BEGIN:STANDARD
TZOFFSETFROM:-0700
TZOFFSETTO:-0800
TZNAME:PST
DTSTART:20251102T090000
END:STANDARD
BEGIN:DAYLIGHT
TZOFFSETFROM:-0800
TZOFFSETTO:-0700
TZNAME:PDT
DTSTART:20260308T100000
END:DAYLIGHT
BEGIN:STANDARD
TZOFFSETFROM:-0700
TZOFFSETTO:-0800
TZNAME:PST
DTSTART:20261101T090000
END:STANDARD
BEGIN:DAYLIGHT
TZOFFSETFROM:-0800
TZOFFSETTO:-0700
TZNAME:PDT
DTSTART:20270314T100000
END:DAYLIGHT
BEGIN:STANDARD
TZOFFSETFROM:-0700
TZOFFSETTO:-0800
TZNAME:PST
DTSTART:20271107T090000
END:STANDARD
END:VTIMEZONE
BEGIN:VEVENT
DTSTART;TZID=America/Los_Angeles:20260602T173000
DTEND;TZID=America/Los_Angeles:20260602T184500
DTSTAMP:20260424T133240
CREATED:20241208T195918Z
LAST-MODIFIED:20260411T020415Z
UID:10003952-1780421400-1780425900@laurayon.com
SUMMARY:Tues Evening Online Yoga Series with Jay Neal
DESCRIPTION:Swami Jay Online Yoga Tuesday Evenings 5:30 – 6:45 PM \n$15 per class \nJay’s yoga class can be thought of as an inner journey from the subtle to the gross physical and back to the subtle. Breath-centered\, slow and simple\, basic poses\, moving through a broad range of motion and balance. Appropriate for strong beginners and those looking for a gentle-but-active practice. \nContact: swamijayyoga@gmail.com to register and Jay will send you the zoom link.
URL:https://laurayon.com/event/tues-evening-online-yoga-series-with-jay-neal/2026-06-02/
CATEGORIES:All Levels
LOCATION:
END:VEVENT
BEGIN:VEVENT
DTSTART;TZID=America/Los_Angeles:20260603T090000
DTEND;TZID=America/Los_Angeles:20260603T101500
DTSTAMP:20260424T133240
CREATED:20221123T220928Z
LAST-MODIFIED:20260423T030109Z
UID:10003401-1780477200-1780481700@laurayon.com
SUMMARY:Wednesday 9:00 am All Levels Yoga - online
DESCRIPTION:Join Laura for this on-going All Levels class via zoom. Register at https://laurayon.com/appointments/ \n$16 drop-in and 10-class card $140
URL:https://laurayon.com/event/wednesday-930-am-all-levels-yoga-online/2026-06-03/
CATEGORIES:All Levels
END:VEVENT
BEGIN:VEVENT
DTSTART;TZID=America/Los_Angeles:20260607T090000
DTEND;TZID=America/Los_Angeles:20260607T101500
DTSTAMP:20260424T133240
CREATED:20240107T011224Z
LAST-MODIFIED:20260209T212040Z
UID:10003656-1780822800-1780827300@laurayon.com
SUMMARY:Sunday All Levels Yoga - in person at Blosm Studio - 8050 35th Ave NE Seattle\, WA 98115
DESCRIPTION:Twice per month\, we will gather to practice together at the beautiful Blosm Studio.\n8050 35th Ave NE\, Seattle\, WA 98115\n2026 dates:\nFeb  22\nMarch 8 & 22\nApril 5 & 26\nMay 10\nJune 7 & 21\nJuly 5 & 26\nAug 9 & 23\nSept 6 & 27\nOct 11 & 25\nNov 8 & 22\nDec 6 & 20 \nPlease register with the link below. \n\nAppointments & Registration
URL:https://laurayon.com/event/sunday-in-person-all-levels-yoga/2026-06-07/
LOCATION:Blosm Studio\, 8050 35th Ave NE\, Seattle\, WA\, 98115
CATEGORIES:All Levels
GEO:47.7207468;-122.2980879
X-APPLE-STRUCTURED-LOCATION;VALUE=URI;X-ADDRESS=Blosm Studio 8050 35th Ave NE Seattle WA 98115;X-APPLE-RADIUS=500;X-TITLE=8050 35th Ave NE:geo:-122.2980879,47.7207468
END:VEVENT
BEGIN:VEVENT
DTSTART;TZID=America/Los_Angeles:20260607T090000
DTEND;TZID=America/Los_Angeles:20260607T103000
DTSTAMP:20260424T133240
CREATED:20221030T231032Z
LAST-MODIFIED:20260209T191913Z
UID:10002411-1780822800-1780828200@laurayon.com
SUMMARY:Sunday 9:00 am All Levels Yoga - online
DESCRIPTION:Join Laura every Sunday for this All Levels class that has been a constant for over 25 years. \n$16 drop-in and $140 for a 10-class card. \nRegister here https://laurayon.com/appointments/ \n 
URL:https://laurayon.com/event/sunday-900-am-all-levels-yoga-online-3/2026-06-07/
CATEGORIES:All Levels
END:VEVENT
BEGIN:VEVENT
DTSTART;TZID=America/Los_Angeles:20260609T173000
DTEND;TZID=America/Los_Angeles:20260609T184500
DTSTAMP:20260424T133240
CREATED:20241208T195918Z
LAST-MODIFIED:20260411T020415Z
UID:10003953-1781026200-1781030700@laurayon.com
SUMMARY:Tues Evening Online Yoga Series with Jay Neal
DESCRIPTION:Swami Jay Online Yoga Tuesday Evenings 5:30 – 6:45 PM \n$15 per class \nJay’s yoga class can be thought of as an inner journey from the subtle to the gross physical and back to the subtle. Breath-centered\, slow and simple\, basic poses\, moving through a broad range of motion and balance. Appropriate for strong beginners and those looking for a gentle-but-active practice. \nContact: swamijayyoga@gmail.com to register and Jay will send you the zoom link.
URL:https://laurayon.com/event/tues-evening-online-yoga-series-with-jay-neal/2026-06-09/
CATEGORIES:All Levels
LOCATION:
END:VEVENT
BEGIN:VEVENT
DTSTART;TZID=America/Los_Angeles:20260610T090000
DTEND;TZID=America/Los_Angeles:20260610T101500
DTSTAMP:20260424T133240
CREATED:20221123T220928Z
LAST-MODIFIED:20260423T030109Z
UID:10003402-1781082000-1781086500@laurayon.com
SUMMARY:Wednesday 9:00 am All Levels Yoga - online
DESCRIPTION:Join Laura for this on-going All Levels class via zoom. Register at https://laurayon.com/appointments/ \n$16 drop-in and 10-class card $140
URL:https://laurayon.com/event/wednesday-930-am-all-levels-yoga-online/2026-06-10/
CATEGORIES:All Levels
END:VEVENT
BEGIN:VEVENT
DTSTART;TZID=America/Los_Angeles:20260614T090000
DTEND;TZID=America/Los_Angeles:20260614T103000
DTSTAMP:20260424T133240
CREATED:20221030T231032Z
LAST-MODIFIED:20260209T191913Z
UID:10002412-1781427600-1781433000@laurayon.com
SUMMARY:Sunday 9:00 am All Levels Yoga - online
DESCRIPTION:Join Laura every Sunday for this All Levels class that has been a constant for over 25 years. \n$16 drop-in and $140 for a 10-class card. \nRegister here https://laurayon.com/appointments/ \n 
URL:https://laurayon.com/event/sunday-900-am-all-levels-yoga-online-3/2026-06-14/
CATEGORIES:All Levels
END:VEVENT
BEGIN:VEVENT
DTSTART;TZID=America/Los_Angeles:20260616T173000
DTEND;TZID=America/Los_Angeles:20260616T184500
DTSTAMP:20260424T133240
CREATED:20241208T195918Z
LAST-MODIFIED:20260411T020415Z
UID:10003954-1781631000-1781635500@laurayon.com
SUMMARY:Tues Evening Online Yoga Series with Jay Neal
DESCRIPTION:Swami Jay Online Yoga Tuesday Evenings 5:30 – 6:45 PM \n$15 per class \nJay’s yoga class can be thought of as an inner journey from the subtle to the gross physical and back to the subtle. Breath-centered\, slow and simple\, basic poses\, moving through a broad range of motion and balance. Appropriate for strong beginners and those looking for a gentle-but-active practice. \nContact: swamijayyoga@gmail.com to register and Jay will send you the zoom link.
URL:https://laurayon.com/event/tues-evening-online-yoga-series-with-jay-neal/2026-06-16/
CATEGORIES:All Levels
LOCATION:
END:VEVENT
BEGIN:VEVENT
DTSTART;TZID=America/Los_Angeles:20260617T090000
DTEND;TZID=America/Los_Angeles:20260617T101500
DTSTAMP:20260424T133240
CREATED:20221123T220928Z
LAST-MODIFIED:20260423T030109Z
UID:10003403-1781686800-1781691300@laurayon.com
SUMMARY:Wednesday 9:00 am All Levels Yoga - online
DESCRIPTION:Join Laura for this on-going All Levels class via zoom. Register at https://laurayon.com/appointments/ \n$16 drop-in and 10-class card $140
URL:https://laurayon.com/event/wednesday-930-am-all-levels-yoga-online/2026-06-17/
CATEGORIES:All Levels
END:VEVENT
BEGIN:VEVENT
DTSTART;TZID=America/Los_Angeles:20260621T090000
DTEND;TZID=America/Los_Angeles:20260621T101500
DTSTAMP:20260424T133240
CREATED:20240107T011224Z
LAST-MODIFIED:20260209T212040Z
UID:10003657-1782032400-1782036900@laurayon.com
SUMMARY:Sunday All Levels Yoga - in person at Blosm Studio - 8050 35th Ave NE Seattle\, WA 98115
DESCRIPTION:Twice per month\, we will gather to practice together at the beautiful Blosm Studio.\n8050 35th Ave NE\, Seattle\, WA 98115\n2026 dates:\nFeb  22\nMarch 8 & 22\nApril 5 & 26\nMay 10\nJune 7 & 21\nJuly 5 & 26\nAug 9 & 23\nSept 6 & 27\nOct 11 & 25\nNov 8 & 22\nDec 6 & 20 \nPlease register with the link below. \n\nAppointments & Registration
URL:https://laurayon.com/event/sunday-in-person-all-levels-yoga/2026-06-21/
LOCATION:Blosm Studio\, 8050 35th Ave NE\, Seattle\, WA\, 98115
CATEGORIES:All Levels
GEO:47.7207468;-122.2980879
X-APPLE-STRUCTURED-LOCATION;VALUE=URI;X-ADDRESS=Blosm Studio 8050 35th Ave NE Seattle WA 98115;X-APPLE-RADIUS=500;X-TITLE=8050 35th Ave NE:geo:-122.2980879,47.7207468
END:VEVENT
BEGIN:VEVENT
DTSTART;TZID=America/Los_Angeles:20260621T090000
DTEND;TZID=America/Los_Angeles:20260621T103000
DTSTAMP:20260424T133240
CREATED:20221030T231032Z
LAST-MODIFIED:20260209T191913Z
UID:10002413-1782032400-1782037800@laurayon.com
SUMMARY:Sunday 9:00 am All Levels Yoga - online
DESCRIPTION:Join Laura every Sunday for this All Levels class that has been a constant for over 25 years. \n$16 drop-in and $140 for a 10-class card. \nRegister here https://laurayon.com/appointments/ \n 
URL:https://laurayon.com/event/sunday-900-am-all-levels-yoga-online-3/2026-06-21/
CATEGORIES:All Levels
END:VEVENT
BEGIN:VEVENT
DTSTART;TZID=America/Los_Angeles:20260623T173000
DTEND;TZID=America/Los_Angeles:20260623T184500
DTSTAMP:20260424T133240
CREATED:20241208T195918Z
LAST-MODIFIED:20260411T020415Z
UID:10003955-1782235800-1782240300@laurayon.com
SUMMARY:Tues Evening Online Yoga Series with Jay Neal
DESCRIPTION:Swami Jay Online Yoga Tuesday Evenings 5:30 – 6:45 PM \n$15 per class \nJay’s yoga class can be thought of as an inner journey from the subtle to the gross physical and back to the subtle. Breath-centered\, slow and simple\, basic poses\, moving through a broad range of motion and balance. Appropriate for strong beginners and those looking for a gentle-but-active practice. \nContact: swamijayyoga@gmail.com to register and Jay will send you the zoom link.
URL:https://laurayon.com/event/tues-evening-online-yoga-series-with-jay-neal/2026-06-23/
CATEGORIES:All Levels
LOCATION:
END:VEVENT
BEGIN:VEVENT
DTSTART;TZID=America/Los_Angeles:20260624T090000
DTEND;TZID=America/Los_Angeles:20260624T101500
DTSTAMP:20260424T133240
CREATED:20221123T220928Z
LAST-MODIFIED:20260423T030109Z
UID:10003404-1782291600-1782296100@laurayon.com
SUMMARY:Wednesday 9:00 am All Levels Yoga - online
DESCRIPTION:Join Laura for this on-going All Levels class via zoom. Register at https://laurayon.com/appointments/ \n$16 drop-in and 10-class card $140
URL:https://laurayon.com/event/wednesday-930-am-all-levels-yoga-online/2026-06-24/
CATEGORIES:All Levels
END:VEVENT
BEGIN:VEVENT
DTSTART;TZID=America/Los_Angeles:20260628T090000
DTEND;TZID=America/Los_Angeles:20260628T103000
DTSTAMP:20260424T133240
CREATED:20221030T231032Z
LAST-MODIFIED:20260209T191913Z
UID:10002414-1782637200-1782642600@laurayon.com
SUMMARY:Sunday 9:00 am All Levels Yoga - online
DESCRIPTION:Join Laura every Sunday for this All Levels class that has been a constant for over 25 years. \n$16 drop-in and $140 for a 10-class card. \nRegister here https://laurayon.com/appointments/ \n 
URL:https://laurayon.com/event/sunday-900-am-all-levels-yoga-online-3/2026-06-28/
CATEGORIES:All Levels
END:VEVENT
BEGIN:VEVENT
DTSTART;TZID=America/Los_Angeles:20260630T173000
DTEND;TZID=America/Los_Angeles:20260630T184500
DTSTAMP:20260424T133240
CREATED:20241208T195918Z
LAST-MODIFIED:20260411T020415Z
UID:10003956-1782840600-1782845100@laurayon.com
SUMMARY:Tues Evening Online Yoga Series with Jay Neal
DESCRIPTION:Swami Jay Online Yoga Tuesday Evenings 5:30 – 6:45 PM \n$15 per class \nJay’s yoga class can be thought of as an inner journey from the subtle to the gross physical and back to the subtle. Breath-centered\, slow and simple\, basic poses\, moving through a broad range of motion and balance. Appropriate for strong beginners and those looking for a gentle-but-active practice. \nContact: swamijayyoga@gmail.com to register and Jay will send you the zoom link.
URL:https://laurayon.com/event/tues-evening-online-yoga-series-with-jay-neal/2026-06-30/
CATEGORIES:All Levels
LOCATION:
END:VEVENT
END:VCALENDAR