BEGIN:VCALENDAR
VERSION:2.0
PRODID:-//Laura Yon - ECPv6.15.20//NONSGML v1.0//EN
CALSCALE:GREGORIAN
METHOD:PUBLISH
X-WR-CALNAME:Laura Yon
X-ORIGINAL-URL:https://laurayon.com
X-WR-CALDESC:Events for Laura Yon
REFRESH-INTERVAL;VALUE=DURATION:PT1H
X-Robots-Tag:noindex
X-PUBLISHED-TTL:PT1H
BEGIN:VTIMEZONE
TZID:America/Los_Angeles
BEGIN:DAYLIGHT
TZOFFSETFROM:-0800
TZOFFSETTO:-0700
TZNAME:PDT
DTSTART:20250309T100000
END:DAYLIGHT
BEGIN:STANDARD
TZOFFSETFROM:-0700
TZOFFSETTO:-0800
TZNAME:PST
DTSTART:20251102T090000
END:STANDARD
BEGIN:DAYLIGHT
TZOFFSETFROM:-0800
TZOFFSETTO:-0700
TZNAME:PDT
DTSTART:20260308T100000
END:DAYLIGHT
BEGIN:STANDARD
TZOFFSETFROM:-0700
TZOFFSETTO:-0800
TZNAME:PST
DTSTART:20261101T090000
END:STANDARD
BEGIN:DAYLIGHT
TZOFFSETFROM:-0800
TZOFFSETTO:-0700
TZNAME:PDT
DTSTART:20270314T100000
END:DAYLIGHT
BEGIN:STANDARD
TZOFFSETFROM:-0700
TZOFFSETTO:-0800
TZNAME:PST
DTSTART:20271107T090000
END:STANDARD
END:VTIMEZONE
BEGIN:VEVENT
DTSTART;TZID=America/Los_Angeles:20260701T090000
DTEND;TZID=America/Los_Angeles:20260701T101500
DTSTAMP:20260424T151239
CREATED:20221123T220928Z
LAST-MODIFIED:20260423T030109Z
UID:10003405-1782896400-1782900900@laurayon.com
SUMMARY:Wednesday 9:00 am All Levels Yoga - online
DESCRIPTION:Join Laura for this on-going All Levels class via zoom. Register at https://laurayon.com/appointments/ \n$16 drop-in and 10-class card $140
URL:https://laurayon.com/event/wednesday-930-am-all-levels-yoga-online/2026-07-01/
CATEGORIES:All Levels
END:VEVENT
BEGIN:VEVENT
DTSTART;TZID=America/Los_Angeles:20260705T090000
DTEND;TZID=America/Los_Angeles:20260705T101500
DTSTAMP:20260424T151239
CREATED:20240107T011224Z
LAST-MODIFIED:20260209T212040Z
UID:10003658-1783242000-1783246500@laurayon.com
SUMMARY:Sunday All Levels Yoga - in person at Blosm Studio - 8050 35th Ave NE Seattle\, WA 98115
DESCRIPTION:Twice per month\, we will gather to practice together at the beautiful Blosm Studio.\n8050 35th Ave NE\, Seattle\, WA 98115\n2026 dates:\nFeb  22\nMarch 8 & 22\nApril 5 & 26\nMay 10\nJune 7 & 21\nJuly 5 & 26\nAug 9 & 23\nSept 6 & 27\nOct 11 & 25\nNov 8 & 22\nDec 6 & 20 \nPlease register with the link below. \n\nAppointments & Registration
URL:https://laurayon.com/event/sunday-in-person-all-levels-yoga/2026-07-05/
LOCATION:Blosm Studio\, 8050 35th Ave NE\, Seattle\, WA\, 98115
CATEGORIES:All Levels
GEO:47.7207468;-122.2980879
X-APPLE-STRUCTURED-LOCATION;VALUE=URI;X-ADDRESS=Blosm Studio 8050 35th Ave NE Seattle WA 98115;X-APPLE-RADIUS=500;X-TITLE=8050 35th Ave NE:geo:-122.2980879,47.7207468
END:VEVENT
BEGIN:VEVENT
DTSTART;TZID=America/Los_Angeles:20260705T090000
DTEND;TZID=America/Los_Angeles:20260705T103000
DTSTAMP:20260424T151239
CREATED:20221030T231032Z
LAST-MODIFIED:20260209T191913Z
UID:10002415-1783242000-1783247400@laurayon.com
SUMMARY:Sunday 9:00 am All Levels Yoga - online
DESCRIPTION:Join Laura every Sunday for this All Levels class that has been a constant for over 25 years. \n$16 drop-in and $140 for a 10-class card. \nRegister here https://laurayon.com/appointments/ \n 
URL:https://laurayon.com/event/sunday-900-am-all-levels-yoga-online-3/2026-07-05/
CATEGORIES:All Levels
END:VEVENT
BEGIN:VEVENT
DTSTART;TZID=America/Los_Angeles:20260707T173000
DTEND;TZID=America/Los_Angeles:20260707T184500
DTSTAMP:20260424T151239
CREATED:20241208T195918Z
LAST-MODIFIED:20260411T020415Z
UID:10003957-1783445400-1783449900@laurayon.com
SUMMARY:Tues Evening Online Yoga Series with Jay Neal
DESCRIPTION:Swami Jay Online Yoga Tuesday Evenings 5:30 – 6:45 PM \n$15 per class \nJay’s yoga class can be thought of as an inner journey from the subtle to the gross physical and back to the subtle. Breath-centered\, slow and simple\, basic poses\, moving through a broad range of motion and balance. Appropriate for strong beginners and those looking for a gentle-but-active practice. \nContact: swamijayyoga@gmail.com to register and Jay will send you the zoom link.
URL:https://laurayon.com/event/tues-evening-online-yoga-series-with-jay-neal/2026-07-07/
CATEGORIES:All Levels
LOCATION:
END:VEVENT
BEGIN:VEVENT
DTSTART;TZID=America/Los_Angeles:20260708T090000
DTEND;TZID=America/Los_Angeles:20260708T101500
DTSTAMP:20260424T151239
CREATED:20221123T220928Z
LAST-MODIFIED:20260423T030109Z
UID:10003406-1783501200-1783505700@laurayon.com
SUMMARY:Wednesday 9:00 am All Levels Yoga - online
DESCRIPTION:Join Laura for this on-going All Levels class via zoom. Register at https://laurayon.com/appointments/ \n$16 drop-in and 10-class card $140
URL:https://laurayon.com/event/wednesday-930-am-all-levels-yoga-online/2026-07-08/
CATEGORIES:All Levels
END:VEVENT
BEGIN:VEVENT
DTSTART;TZID=America/Los_Angeles:20260712T090000
DTEND;TZID=America/Los_Angeles:20260712T103000
DTSTAMP:20260424T151239
CREATED:20221030T231032Z
LAST-MODIFIED:20260209T191913Z
UID:10002416-1783846800-1783852200@laurayon.com
SUMMARY:Sunday 9:00 am All Levels Yoga - online
DESCRIPTION:Join Laura every Sunday for this All Levels class that has been a constant for over 25 years. \n$16 drop-in and $140 for a 10-class card. \nRegister here https://laurayon.com/appointments/ \n 
URL:https://laurayon.com/event/sunday-900-am-all-levels-yoga-online-3/2026-07-12/
CATEGORIES:All Levels
END:VEVENT
BEGIN:VEVENT
DTSTART;TZID=America/Los_Angeles:20260714T173000
DTEND;TZID=America/Los_Angeles:20260714T184500
DTSTAMP:20260424T151239
CREATED:20241208T195918Z
LAST-MODIFIED:20260411T020415Z
UID:10003958-1784050200-1784054700@laurayon.com
SUMMARY:Tues Evening Online Yoga Series with Jay Neal
DESCRIPTION:Swami Jay Online Yoga Tuesday Evenings 5:30 – 6:45 PM \n$15 per class \nJay’s yoga class can be thought of as an inner journey from the subtle to the gross physical and back to the subtle. Breath-centered\, slow and simple\, basic poses\, moving through a broad range of motion and balance. Appropriate for strong beginners and those looking for a gentle-but-active practice. \nContact: swamijayyoga@gmail.com to register and Jay will send you the zoom link.
URL:https://laurayon.com/event/tues-evening-online-yoga-series-with-jay-neal/2026-07-14/
CATEGORIES:All Levels
LOCATION:
END:VEVENT
BEGIN:VEVENT
DTSTART;TZID=America/Los_Angeles:20260715T090000
DTEND;TZID=America/Los_Angeles:20260715T101500
DTSTAMP:20260424T151239
CREATED:20221123T220928Z
LAST-MODIFIED:20260423T030109Z
UID:10003407-1784106000-1784110500@laurayon.com
SUMMARY:Wednesday 9:00 am All Levels Yoga - online
DESCRIPTION:Join Laura for this on-going All Levels class via zoom. Register at https://laurayon.com/appointments/ \n$16 drop-in and 10-class card $140
URL:https://laurayon.com/event/wednesday-930-am-all-levels-yoga-online/2026-07-15/
CATEGORIES:All Levels
END:VEVENT
BEGIN:VEVENT
DTSTART;TZID=America/Los_Angeles:20260719T090000
DTEND;TZID=America/Los_Angeles:20260719T103000
DTSTAMP:20260424T151239
CREATED:20221030T231032Z
LAST-MODIFIED:20260209T191913Z
UID:10002417-1784451600-1784457000@laurayon.com
SUMMARY:Sunday 9:00 am All Levels Yoga - online
DESCRIPTION:Join Laura every Sunday for this All Levels class that has been a constant for over 25 years. \n$16 drop-in and $140 for a 10-class card. \nRegister here https://laurayon.com/appointments/ \n 
URL:https://laurayon.com/event/sunday-900-am-all-levels-yoga-online-3/2026-07-19/
CATEGORIES:All Levels
END:VEVENT
BEGIN:VEVENT
DTSTART;TZID=America/Los_Angeles:20260721T173000
DTEND;TZID=America/Los_Angeles:20260721T184500
DTSTAMP:20260424T151239
CREATED:20241208T195918Z
LAST-MODIFIED:20260411T020415Z
UID:10003959-1784655000-1784659500@laurayon.com
SUMMARY:Tues Evening Online Yoga Series with Jay Neal
DESCRIPTION:Swami Jay Online Yoga Tuesday Evenings 5:30 – 6:45 PM \n$15 per class \nJay’s yoga class can be thought of as an inner journey from the subtle to the gross physical and back to the subtle. Breath-centered\, slow and simple\, basic poses\, moving through a broad range of motion and balance. Appropriate for strong beginners and those looking for a gentle-but-active practice. \nContact: swamijayyoga@gmail.com to register and Jay will send you the zoom link.
URL:https://laurayon.com/event/tues-evening-online-yoga-series-with-jay-neal/2026-07-21/
CATEGORIES:All Levels
LOCATION:
END:VEVENT
BEGIN:VEVENT
DTSTART;TZID=America/Los_Angeles:20260722T090000
DTEND;TZID=America/Los_Angeles:20260722T101500
DTSTAMP:20260424T151239
CREATED:20221123T220928Z
LAST-MODIFIED:20260423T030109Z
UID:10003408-1784710800-1784715300@laurayon.com
SUMMARY:Wednesday 9:00 am All Levels Yoga - online
DESCRIPTION:Join Laura for this on-going All Levels class via zoom. Register at https://laurayon.com/appointments/ \n$16 drop-in and 10-class card $140
URL:https://laurayon.com/event/wednesday-930-am-all-levels-yoga-online/2026-07-22/
CATEGORIES:All Levels
END:VEVENT
BEGIN:VEVENT
DTSTART;TZID=America/Los_Angeles:20260726T090000
DTEND;TZID=America/Los_Angeles:20260726T101500
DTSTAMP:20260424T151239
CREATED:20240107T011224Z
LAST-MODIFIED:20260209T212040Z
UID:10003659-1785056400-1785060900@laurayon.com
SUMMARY:Sunday All Levels Yoga - in person at Blosm Studio - 8050 35th Ave NE Seattle\, WA 98115
DESCRIPTION:Twice per month\, we will gather to practice together at the beautiful Blosm Studio.\n8050 35th Ave NE\, Seattle\, WA 98115\n2026 dates:\nFeb  22\nMarch 8 & 22\nApril 5 & 26\nMay 10\nJune 7 & 21\nJuly 5 & 26\nAug 9 & 23\nSept 6 & 27\nOct 11 & 25\nNov 8 & 22\nDec 6 & 20 \nPlease register with the link below. \n\nAppointments & Registration
URL:https://laurayon.com/event/sunday-in-person-all-levels-yoga/2026-07-26/
LOCATION:Blosm Studio\, 8050 35th Ave NE\, Seattle\, WA\, 98115
CATEGORIES:All Levels
GEO:47.7207468;-122.2980879
X-APPLE-STRUCTURED-LOCATION;VALUE=URI;X-ADDRESS=Blosm Studio 8050 35th Ave NE Seattle WA 98115;X-APPLE-RADIUS=500;X-TITLE=8050 35th Ave NE:geo:-122.2980879,47.7207468
END:VEVENT
BEGIN:VEVENT
DTSTART;TZID=America/Los_Angeles:20260726T090000
DTEND;TZID=America/Los_Angeles:20260726T103000
DTSTAMP:20260424T151239
CREATED:20221030T231032Z
LAST-MODIFIED:20260209T191913Z
UID:10002418-1785056400-1785061800@laurayon.com
SUMMARY:Sunday 9:00 am All Levels Yoga - online
DESCRIPTION:Join Laura every Sunday for this All Levels class that has been a constant for over 25 years. \n$16 drop-in and $140 for a 10-class card. \nRegister here https://laurayon.com/appointments/ \n 
URL:https://laurayon.com/event/sunday-900-am-all-levels-yoga-online-3/2026-07-26/
CATEGORIES:All Levels
END:VEVENT
BEGIN:VEVENT
DTSTART;TZID=America/Los_Angeles:20260728T173000
DTEND;TZID=America/Los_Angeles:20260728T184500
DTSTAMP:20260424T151239
CREATED:20241208T195918Z
LAST-MODIFIED:20260411T020415Z
UID:10003960-1785259800-1785264300@laurayon.com
SUMMARY:Tues Evening Online Yoga Series with Jay Neal
DESCRIPTION:Swami Jay Online Yoga Tuesday Evenings 5:30 – 6:45 PM \n$15 per class \nJay’s yoga class can be thought of as an inner journey from the subtle to the gross physical and back to the subtle. Breath-centered\, slow and simple\, basic poses\, moving through a broad range of motion and balance. Appropriate for strong beginners and those looking for a gentle-but-active practice. \nContact: swamijayyoga@gmail.com to register and Jay will send you the zoom link.
URL:https://laurayon.com/event/tues-evening-online-yoga-series-with-jay-neal/2026-07-28/
CATEGORIES:All Levels
LOCATION:
END:VEVENT
BEGIN:VEVENT
DTSTART;TZID=America/Los_Angeles:20260729T090000
DTEND;TZID=America/Los_Angeles:20260729T101500
DTSTAMP:20260424T151239
CREATED:20221123T220928Z
LAST-MODIFIED:20260423T030109Z
UID:10003409-1785315600-1785320100@laurayon.com
SUMMARY:Wednesday 9:00 am All Levels Yoga - online
DESCRIPTION:Join Laura for this on-going All Levels class via zoom. Register at https://laurayon.com/appointments/ \n$16 drop-in and 10-class card $140
URL:https://laurayon.com/event/wednesday-930-am-all-levels-yoga-online/2026-07-29/
CATEGORIES:All Levels
END:VEVENT
END:VCALENDAR