BEGIN:VCALENDAR
VERSION:2.0
PRODID:-//Laura Yon - ECPv6.15.20//NONSGML v1.0//EN
CALSCALE:GREGORIAN
METHOD:PUBLISH
X-ORIGINAL-URL:https://laurayon.com
X-WR-CALDESC:Events for Laura Yon
REFRESH-INTERVAL;VALUE=DURATION:PT1H
X-Robots-Tag:noindex
X-PUBLISHED-TTL:PT1H
BEGIN:VTIMEZONE
TZID:America/Los_Angeles
BEGIN:DAYLIGHT
TZOFFSETFROM:-0800
TZOFFSETTO:-0700
TZNAME:PDT
DTSTART:20250309T100000
END:DAYLIGHT
BEGIN:STANDARD
TZOFFSETFROM:-0700
TZOFFSETTO:-0800
TZNAME:PST
DTSTART:20251102T090000
END:STANDARD
BEGIN:DAYLIGHT
TZOFFSETFROM:-0800
TZOFFSETTO:-0700
TZNAME:PDT
DTSTART:20260308T100000
END:DAYLIGHT
BEGIN:STANDARD
TZOFFSETFROM:-0700
TZOFFSETTO:-0800
TZNAME:PST
DTSTART:20261101T090000
END:STANDARD
BEGIN:DAYLIGHT
TZOFFSETFROM:-0800
TZOFFSETTO:-0700
TZNAME:PDT
DTSTART:20270314T100000
END:DAYLIGHT
BEGIN:STANDARD
TZOFFSETFROM:-0700
TZOFFSETTO:-0800
TZNAME:PST
DTSTART:20271107T090000
END:STANDARD
END:VTIMEZONE
BEGIN:VEVENT
DTSTART;TZID=America/Los_Angeles:20261101T090000
DTEND;TZID=America/Los_Angeles:20261101T103000
DTSTAMP:20260424T212440
CREATED:20221030T231032Z
LAST-MODIFIED:20260209T191913Z
UID:10002432-1793523600-1793529000@laurayon.com
SUMMARY:Sunday 9:00 am All Levels Yoga - online
DESCRIPTION:Join Laura every Sunday for this All Levels class that has been a constant for over 25 years. \n$16 drop-in and $140 for a 10-class card. \nRegister here https://laurayon.com/appointments/ \n 
URL:https://laurayon.com/event/sunday-900-am-all-levels-yoga-online-3/2026-11-01/
CATEGORIES:All Levels
END:VEVENT
BEGIN:VEVENT
DTSTART;TZID=America/Los_Angeles:20261103T173000
DTEND;TZID=America/Los_Angeles:20261103T184500
DTSTAMP:20260424T212440
CREATED:20241208T195918Z
LAST-MODIFIED:20260411T020415Z
UID:10003974-1793727000-1793731500@laurayon.com
SUMMARY:Tues Evening Online Yoga Series with Jay Neal
DESCRIPTION:Swami Jay Online Yoga Tuesday Evenings 5:30 – 6:45 PM \n$15 per class \nJay’s yoga class can be thought of as an inner journey from the subtle to the gross physical and back to the subtle. Breath-centered\, slow and simple\, basic poses\, moving through a broad range of motion and balance. Appropriate for strong beginners and those looking for a gentle-but-active practice. \nContact: swamijayyoga@gmail.com to register and Jay will send you the zoom link.
URL:https://laurayon.com/event/tues-evening-online-yoga-series-with-jay-neal/2026-11-03/
CATEGORIES:All Levels
LOCATION:
END:VEVENT
BEGIN:VEVENT
DTSTART;TZID=America/Los_Angeles:20261104T090000
DTEND;TZID=America/Los_Angeles:20261104T101500
DTSTAMP:20260424T212440
CREATED:20221123T220928Z
LAST-MODIFIED:20260423T030109Z
UID:10003423-1793782800-1793787300@laurayon.com
SUMMARY:Wednesday 9:00 am All Levels Yoga - online
DESCRIPTION:Join Laura for this on-going All Levels class via zoom. Register at https://laurayon.com/appointments/ \n$16 drop-in and 10-class card $140
URL:https://laurayon.com/event/wednesday-930-am-all-levels-yoga-online/2026-11-04/
CATEGORIES:All Levels
END:VEVENT
BEGIN:VEVENT
DTSTART;TZID=America/Los_Angeles:20261108T090000
DTEND;TZID=America/Los_Angeles:20261108T101500
DTSTAMP:20260424T212440
CREATED:20240107T011224Z
LAST-MODIFIED:20260209T212040Z
UID:10003666-1794128400-1794132900@laurayon.com
SUMMARY:Sunday All Levels Yoga - in person at Blosm Studio - 8050 35th Ave NE Seattle\, WA 98115
DESCRIPTION:Twice per month\, we will gather to practice together at the beautiful Blosm Studio.\n8050 35th Ave NE\, Seattle\, WA 98115\n2026 dates:\nFeb  22\nMarch 8 & 22\nApril 5 & 26\nMay 10\nJune 7 & 21\nJuly 5 & 26\nAug 9 & 23\nSept 6 & 27\nOct 11 & 25\nNov 8 & 22\nDec 6 & 20 \nPlease register with the link below. \n\nAppointments & Registration
URL:https://laurayon.com/event/sunday-in-person-all-levels-yoga/2026-11-08/
LOCATION:Blosm Studio\, 8050 35th Ave NE\, Seattle\, WA\, 98115
CATEGORIES:All Levels
GEO:47.7207468;-122.2980879
X-APPLE-STRUCTURED-LOCATION;VALUE=URI;X-ADDRESS=Blosm Studio 8050 35th Ave NE Seattle WA 98115;X-APPLE-RADIUS=500;X-TITLE=8050 35th Ave NE:geo:-122.2980879,47.7207468
END:VEVENT
BEGIN:VEVENT
DTSTART;TZID=America/Los_Angeles:20261108T090000
DTEND;TZID=America/Los_Angeles:20261108T103000
DTSTAMP:20260424T212440
CREATED:20221030T231032Z
LAST-MODIFIED:20260209T191913Z
UID:10002433-1794128400-1794133800@laurayon.com
SUMMARY:Sunday 9:00 am All Levels Yoga - online
DESCRIPTION:Join Laura every Sunday for this All Levels class that has been a constant for over 25 years. \n$16 drop-in and $140 for a 10-class card. \nRegister here https://laurayon.com/appointments/ \n 
URL:https://laurayon.com/event/sunday-900-am-all-levels-yoga-online-3/2026-11-08/
CATEGORIES:All Levels
END:VEVENT
BEGIN:VEVENT
DTSTART;TZID=America/Los_Angeles:20261110T173000
DTEND;TZID=America/Los_Angeles:20261110T184500
DTSTAMP:20260424T212440
CREATED:20241208T195918Z
LAST-MODIFIED:20260411T020415Z
UID:10003975-1794331800-1794336300@laurayon.com
SUMMARY:Tues Evening Online Yoga Series with Jay Neal
DESCRIPTION:Swami Jay Online Yoga Tuesday Evenings 5:30 – 6:45 PM \n$15 per class \nJay’s yoga class can be thought of as an inner journey from the subtle to the gross physical and back to the subtle. Breath-centered\, slow and simple\, basic poses\, moving through a broad range of motion and balance. Appropriate for strong beginners and those looking for a gentle-but-active practice. \nContact: swamijayyoga@gmail.com to register and Jay will send you the zoom link.
URL:https://laurayon.com/event/tues-evening-online-yoga-series-with-jay-neal/2026-11-10/
CATEGORIES:All Levels
LOCATION:
END:VEVENT
BEGIN:VEVENT
DTSTART;TZID=America/Los_Angeles:20261111T090000
DTEND;TZID=America/Los_Angeles:20261111T101500
DTSTAMP:20260424T212440
CREATED:20221123T220928Z
LAST-MODIFIED:20260423T030109Z
UID:10003424-1794387600-1794392100@laurayon.com
SUMMARY:Wednesday 9:00 am All Levels Yoga - online
DESCRIPTION:Join Laura for this on-going All Levels class via zoom. Register at https://laurayon.com/appointments/ \n$16 drop-in and 10-class card $140
URL:https://laurayon.com/event/wednesday-930-am-all-levels-yoga-online/2026-11-11/
CATEGORIES:All Levels
END:VEVENT
BEGIN:VEVENT
DTSTART;TZID=America/Los_Angeles:20261115T090000
DTEND;TZID=America/Los_Angeles:20261115T103000
DTSTAMP:20260424T212440
CREATED:20221030T231032Z
LAST-MODIFIED:20260209T191913Z
UID:10002434-1794733200-1794738600@laurayon.com
SUMMARY:Sunday 9:00 am All Levels Yoga - online
DESCRIPTION:Join Laura every Sunday for this All Levels class that has been a constant for over 25 years. \n$16 drop-in and $140 for a 10-class card. \nRegister here https://laurayon.com/appointments/ \n 
URL:https://laurayon.com/event/sunday-900-am-all-levels-yoga-online-3/2026-11-15/
CATEGORIES:All Levels
END:VEVENT
BEGIN:VEVENT
DTSTART;TZID=America/Los_Angeles:20261117T173000
DTEND;TZID=America/Los_Angeles:20261117T184500
DTSTAMP:20260424T212440
CREATED:20241208T195918Z
LAST-MODIFIED:20260411T020415Z
UID:10003976-1794936600-1794941100@laurayon.com
SUMMARY:Tues Evening Online Yoga Series with Jay Neal
DESCRIPTION:Swami Jay Online Yoga Tuesday Evenings 5:30 – 6:45 PM \n$15 per class \nJay’s yoga class can be thought of as an inner journey from the subtle to the gross physical and back to the subtle. Breath-centered\, slow and simple\, basic poses\, moving through a broad range of motion and balance. Appropriate for strong beginners and those looking for a gentle-but-active practice. \nContact: swamijayyoga@gmail.com to register and Jay will send you the zoom link.
URL:https://laurayon.com/event/tues-evening-online-yoga-series-with-jay-neal/2026-11-17/
CATEGORIES:All Levels
LOCATION:
END:VEVENT
BEGIN:VEVENT
DTSTART;TZID=America/Los_Angeles:20261118T090000
DTEND;TZID=America/Los_Angeles:20261118T101500
DTSTAMP:20260424T212440
CREATED:20221123T220928Z
LAST-MODIFIED:20260423T030109Z
UID:10003425-1794992400-1794996900@laurayon.com
SUMMARY:Wednesday 9:00 am All Levels Yoga - online
DESCRIPTION:Join Laura for this on-going All Levels class via zoom. Register at https://laurayon.com/appointments/ \n$16 drop-in and 10-class card $140
URL:https://laurayon.com/event/wednesday-930-am-all-levels-yoga-online/2026-11-18/
CATEGORIES:All Levels
END:VEVENT
BEGIN:VEVENT
DTSTART;TZID=America/Los_Angeles:20261122T090000
DTEND;TZID=America/Los_Angeles:20261122T101500
DTSTAMP:20260424T212440
CREATED:20240107T011224Z
LAST-MODIFIED:20260209T212040Z
UID:10003667-1795338000-1795342500@laurayon.com
SUMMARY:Sunday All Levels Yoga - in person at Blosm Studio - 8050 35th Ave NE Seattle\, WA 98115
DESCRIPTION:Twice per month\, we will gather to practice together at the beautiful Blosm Studio.\n8050 35th Ave NE\, Seattle\, WA 98115\n2026 dates:\nFeb  22\nMarch 8 & 22\nApril 5 & 26\nMay 10\nJune 7 & 21\nJuly 5 & 26\nAug 9 & 23\nSept 6 & 27\nOct 11 & 25\nNov 8 & 22\nDec 6 & 20 \nPlease register with the link below. \n\nAppointments & Registration
URL:https://laurayon.com/event/sunday-in-person-all-levels-yoga/2026-11-22/
LOCATION:Blosm Studio\, 8050 35th Ave NE\, Seattle\, WA\, 98115
CATEGORIES:All Levels
GEO:47.7207468;-122.2980879
X-APPLE-STRUCTURED-LOCATION;VALUE=URI;X-ADDRESS=Blosm Studio 8050 35th Ave NE Seattle WA 98115;X-APPLE-RADIUS=500;X-TITLE=8050 35th Ave NE:geo:-122.2980879,47.7207468
END:VEVENT
BEGIN:VEVENT
DTSTART;TZID=America/Los_Angeles:20261122T090000
DTEND;TZID=America/Los_Angeles:20261122T103000
DTSTAMP:20260424T212440
CREATED:20221030T231032Z
LAST-MODIFIED:20260209T191913Z
UID:10002435-1795338000-1795343400@laurayon.com
SUMMARY:Sunday 9:00 am All Levels Yoga - online
DESCRIPTION:Join Laura every Sunday for this All Levels class that has been a constant for over 25 years. \n$16 drop-in and $140 for a 10-class card. \nRegister here https://laurayon.com/appointments/ \n 
URL:https://laurayon.com/event/sunday-900-am-all-levels-yoga-online-3/2026-11-22/
CATEGORIES:All Levels
END:VEVENT
BEGIN:VEVENT
DTSTART;TZID=America/Los_Angeles:20261124T173000
DTEND;TZID=America/Los_Angeles:20261124T184500
DTSTAMP:20260424T212440
CREATED:20241208T195918Z
LAST-MODIFIED:20260411T020415Z
UID:10003977-1795541400-1795545900@laurayon.com
SUMMARY:Tues Evening Online Yoga Series with Jay Neal
DESCRIPTION:Swami Jay Online Yoga Tuesday Evenings 5:30 – 6:45 PM \n$15 per class \nJay’s yoga class can be thought of as an inner journey from the subtle to the gross physical and back to the subtle. Breath-centered\, slow and simple\, basic poses\, moving through a broad range of motion and balance. Appropriate for strong beginners and those looking for a gentle-but-active practice. \nContact: swamijayyoga@gmail.com to register and Jay will send you the zoom link.
URL:https://laurayon.com/event/tues-evening-online-yoga-series-with-jay-neal/2026-11-24/
CATEGORIES:All Levels
LOCATION:
END:VEVENT
BEGIN:VEVENT
DTSTART;TZID=America/Los_Angeles:20261125T090000
DTEND;TZID=America/Los_Angeles:20261125T101500
DTSTAMP:20260424T212440
CREATED:20221123T220928Z
LAST-MODIFIED:20260423T030109Z
UID:10003426-1795597200-1795601700@laurayon.com
SUMMARY:Wednesday 9:00 am All Levels Yoga - online
DESCRIPTION:Join Laura for this on-going All Levels class via zoom. Register at https://laurayon.com/appointments/ \n$16 drop-in and 10-class card $140
URL:https://laurayon.com/event/wednesday-930-am-all-levels-yoga-online/2026-11-25/
CATEGORIES:All Levels
END:VEVENT
BEGIN:VEVENT
DTSTART;TZID=America/Los_Angeles:20261129T090000
DTEND;TZID=America/Los_Angeles:20261129T103000
DTSTAMP:20260424T212440
CREATED:20221030T231032Z
LAST-MODIFIED:20260209T191913Z
UID:10002436-1795942800-1795948200@laurayon.com
SUMMARY:Sunday 9:00 am All Levels Yoga - online
DESCRIPTION:Join Laura every Sunday for this All Levels class that has been a constant for over 25 years. \n$16 drop-in and $140 for a 10-class card. \nRegister here https://laurayon.com/appointments/ \n 
URL:https://laurayon.com/event/sunday-900-am-all-levels-yoga-online-3/2026-11-29/
CATEGORIES:All Levels
END:VEVENT
END:VCALENDAR