BEGIN:VCALENDAR
VERSION:2.0
PRODID:-//Laura Yon - ECPv6.15.20//NONSGML v1.0//EN
CALSCALE:GREGORIAN
METHOD:PUBLISH
X-WR-CALNAME:Laura Yon
X-ORIGINAL-URL:https://laurayon.com
X-WR-CALDESC:Events for Laura Yon
REFRESH-INTERVAL;VALUE=DURATION:PT1H
X-Robots-Tag:noindex
X-PUBLISHED-TTL:PT1H
BEGIN:VTIMEZONE
TZID:America/Los_Angeles
BEGIN:DAYLIGHT
TZOFFSETFROM:-0800
TZOFFSETTO:-0700
TZNAME:PDT
DTSTART:20260308T100000
END:DAYLIGHT
BEGIN:STANDARD
TZOFFSETFROM:-0700
TZOFFSETTO:-0800
TZNAME:PST
DTSTART:20261101T090000
END:STANDARD
BEGIN:DAYLIGHT
TZOFFSETFROM:-0800
TZOFFSETTO:-0700
TZNAME:PDT
DTSTART:20270314T100000
END:DAYLIGHT
BEGIN:STANDARD
TZOFFSETFROM:-0700
TZOFFSETTO:-0800
TZNAME:PST
DTSTART:20271107T090000
END:STANDARD
BEGIN:DAYLIGHT
TZOFFSETFROM:-0800
TZOFFSETTO:-0700
TZNAME:PDT
DTSTART:20280312T100000
END:DAYLIGHT
BEGIN:STANDARD
TZOFFSETFROM:-0700
TZOFFSETTO:-0800
TZNAME:PST
DTSTART:20281105T090000
END:STANDARD
END:VTIMEZONE
BEGIN:VEVENT
DTSTART;TZID=America/Los_Angeles:20271201T090000
DTEND;TZID=America/Los_Angeles:20271201T101500
DTSTAMP:20260425T190547
CREATED:20221123T220928Z
LAST-MODIFIED:20260423T030109Z
UID:10003479-1827651600-1827656100@laurayon.com
SUMMARY:Wednesday 9:00 am All Levels Yoga - online
DESCRIPTION:Join Laura for this on-going All Levels class via zoom. Register at https://laurayon.com/appointments/ \n$16 drop-in and 10-class card $140
URL:https://laurayon.com/event/wednesday-930-am-all-levels-yoga-online/2027-12-01/
CATEGORIES:All Levels
END:VEVENT
BEGIN:VEVENT
DTSTART;TZID=America/Los_Angeles:20271205T090000
DTEND;TZID=America/Los_Angeles:20271205T103000
DTSTAMP:20260425T190547
CREATED:20221030T231032Z
LAST-MODIFIED:20260209T191913Z
UID:10002489-1827997200-1828002600@laurayon.com
SUMMARY:Sunday 9:00 am All Levels Yoga - online
DESCRIPTION:Join Laura every Sunday for this All Levels class that has been a constant for over 25 years. \n$16 drop-in and $140 for a 10-class card. \nRegister here https://laurayon.com/appointments/ \n 
URL:https://laurayon.com/event/sunday-900-am-all-levels-yoga-online-3/2027-12-05/
CATEGORIES:All Levels
END:VEVENT
BEGIN:VEVENT
DTSTART;TZID=America/Los_Angeles:20271207T173000
DTEND;TZID=America/Los_Angeles:20271207T184500
DTSTAMP:20260425T190547
CREATED:20241208T195918Z
LAST-MODIFIED:20260411T020415Z
UID:10004031-1828200600-1828205100@laurayon.com
SUMMARY:Tues Evening Online Yoga Series with Jay Neal
DESCRIPTION:Swami Jay Online Yoga Tuesday Evenings 5:30 – 6:45 PM \n$15 per class \nJay’s yoga class can be thought of as an inner journey from the subtle to the gross physical and back to the subtle. Breath-centered\, slow and simple\, basic poses\, moving through a broad range of motion and balance. Appropriate for strong beginners and those looking for a gentle-but-active practice. \nContact: swamijayyoga@gmail.com to register and Jay will send you the zoom link.
URL:https://laurayon.com/event/tues-evening-online-yoga-series-with-jay-neal/2027-12-07/
CATEGORIES:All Levels
LOCATION:
END:VEVENT
BEGIN:VEVENT
DTSTART;TZID=America/Los_Angeles:20271208T090000
DTEND;TZID=America/Los_Angeles:20271208T101500
DTSTAMP:20260425T190547
CREATED:20221123T220928Z
LAST-MODIFIED:20260423T030109Z
UID:10003480-1828256400-1828260900@laurayon.com
SUMMARY:Wednesday 9:00 am All Levels Yoga - online
DESCRIPTION:Join Laura for this on-going All Levels class via zoom. Register at https://laurayon.com/appointments/ \n$16 drop-in and 10-class card $140
URL:https://laurayon.com/event/wednesday-930-am-all-levels-yoga-online/2027-12-08/
CATEGORIES:All Levels
END:VEVENT
BEGIN:VEVENT
DTSTART;TZID=America/Los_Angeles:20271212T090000
DTEND;TZID=America/Los_Angeles:20271212T103000
DTSTAMP:20260425T190547
CREATED:20221030T231032Z
LAST-MODIFIED:20260209T191913Z
UID:10002490-1828602000-1828607400@laurayon.com
SUMMARY:Sunday 9:00 am All Levels Yoga - online
DESCRIPTION:Join Laura every Sunday for this All Levels class that has been a constant for over 25 years. \n$16 drop-in and $140 for a 10-class card. \nRegister here https://laurayon.com/appointments/ \n 
URL:https://laurayon.com/event/sunday-900-am-all-levels-yoga-online-3/2027-12-12/
CATEGORIES:All Levels
END:VEVENT
BEGIN:VEVENT
DTSTART;TZID=America/Los_Angeles:20271214T173000
DTEND;TZID=America/Los_Angeles:20271214T184500
DTSTAMP:20260425T190547
CREATED:20241208T195918Z
LAST-MODIFIED:20260411T020415Z
UID:10004032-1828805400-1828809900@laurayon.com
SUMMARY:Tues Evening Online Yoga Series with Jay Neal
DESCRIPTION:Swami Jay Online Yoga Tuesday Evenings 5:30 – 6:45 PM \n$15 per class \nJay’s yoga class can be thought of as an inner journey from the subtle to the gross physical and back to the subtle. Breath-centered\, slow and simple\, basic poses\, moving through a broad range of motion and balance. Appropriate for strong beginners and those looking for a gentle-but-active practice. \nContact: swamijayyoga@gmail.com to register and Jay will send you the zoom link.
URL:https://laurayon.com/event/tues-evening-online-yoga-series-with-jay-neal/2027-12-14/
CATEGORIES:All Levels
LOCATION:
END:VEVENT
BEGIN:VEVENT
DTSTART;TZID=America/Los_Angeles:20271215T090000
DTEND;TZID=America/Los_Angeles:20271215T101500
DTSTAMP:20260425T190547
CREATED:20221123T220928Z
LAST-MODIFIED:20260423T030109Z
UID:10003481-1828861200-1828865700@laurayon.com
SUMMARY:Wednesday 9:00 am All Levels Yoga - online
DESCRIPTION:Join Laura for this on-going All Levels class via zoom. Register at https://laurayon.com/appointments/ \n$16 drop-in and 10-class card $140
URL:https://laurayon.com/event/wednesday-930-am-all-levels-yoga-online/2027-12-15/
CATEGORIES:All Levels
END:VEVENT
BEGIN:VEVENT
DTSTART;TZID=America/Los_Angeles:20271219T090000
DTEND;TZID=America/Los_Angeles:20271219T103000
DTSTAMP:20260425T190547
CREATED:20221030T231032Z
LAST-MODIFIED:20260209T191913Z
UID:10002491-1829206800-1829212200@laurayon.com
SUMMARY:Sunday 9:00 am All Levels Yoga - online
DESCRIPTION:Join Laura every Sunday for this All Levels class that has been a constant for over 25 years. \n$16 drop-in and $140 for a 10-class card. \nRegister here https://laurayon.com/appointments/ \n 
URL:https://laurayon.com/event/sunday-900-am-all-levels-yoga-online-3/2027-12-19/
CATEGORIES:All Levels
END:VEVENT
BEGIN:VEVENT
DTSTART;TZID=America/Los_Angeles:20271221T173000
DTEND;TZID=America/Los_Angeles:20271221T184500
DTSTAMP:20260425T190547
CREATED:20241208T195918Z
LAST-MODIFIED:20260411T020415Z
UID:10004033-1829410200-1829414700@laurayon.com
SUMMARY:Tues Evening Online Yoga Series with Jay Neal
DESCRIPTION:Swami Jay Online Yoga Tuesday Evenings 5:30 – 6:45 PM \n$15 per class \nJay’s yoga class can be thought of as an inner journey from the subtle to the gross physical and back to the subtle. Breath-centered\, slow and simple\, basic poses\, moving through a broad range of motion and balance. Appropriate for strong beginners and those looking for a gentle-but-active practice. \nContact: swamijayyoga@gmail.com to register and Jay will send you the zoom link.
URL:https://laurayon.com/event/tues-evening-online-yoga-series-with-jay-neal/2027-12-21/
CATEGORIES:All Levels
LOCATION:
END:VEVENT
BEGIN:VEVENT
DTSTART;TZID=America/Los_Angeles:20271222T090000
DTEND;TZID=America/Los_Angeles:20271222T101500
DTSTAMP:20260425T190547
CREATED:20221123T220928Z
LAST-MODIFIED:20260423T030109Z
UID:10003482-1829466000-1829470500@laurayon.com
SUMMARY:Wednesday 9:00 am All Levels Yoga - online
DESCRIPTION:Join Laura for this on-going All Levels class via zoom. Register at https://laurayon.com/appointments/ \n$16 drop-in and 10-class card $140
URL:https://laurayon.com/event/wednesday-930-am-all-levels-yoga-online/2027-12-22/
CATEGORIES:All Levels
END:VEVENT
BEGIN:VEVENT
DTSTART;TZID=America/Los_Angeles:20271226T090000
DTEND;TZID=America/Los_Angeles:20271226T103000
DTSTAMP:20260425T190547
CREATED:20221030T231032Z
LAST-MODIFIED:20260209T191913Z
UID:10002492-1829811600-1829817000@laurayon.com
SUMMARY:Sunday 9:00 am All Levels Yoga - online
DESCRIPTION:Join Laura every Sunday for this All Levels class that has been a constant for over 25 years. \n$16 drop-in and $140 for a 10-class card. \nRegister here https://laurayon.com/appointments/ \n 
URL:https://laurayon.com/event/sunday-900-am-all-levels-yoga-online-3/2027-12-26/
CATEGORIES:All Levels
END:VEVENT
BEGIN:VEVENT
DTSTART;TZID=America/Los_Angeles:20271228T173000
DTEND;TZID=America/Los_Angeles:20271228T184500
DTSTAMP:20260425T190547
CREATED:20241208T195918Z
LAST-MODIFIED:20260411T020415Z
UID:10004034-1830015000-1830019500@laurayon.com
SUMMARY:Tues Evening Online Yoga Series with Jay Neal
DESCRIPTION:Swami Jay Online Yoga Tuesday Evenings 5:30 – 6:45 PM \n$15 per class \nJay’s yoga class can be thought of as an inner journey from the subtle to the gross physical and back to the subtle. Breath-centered\, slow and simple\, basic poses\, moving through a broad range of motion and balance. Appropriate for strong beginners and those looking for a gentle-but-active practice. \nContact: swamijayyoga@gmail.com to register and Jay will send you the zoom link.
URL:https://laurayon.com/event/tues-evening-online-yoga-series-with-jay-neal/2027-12-28/
CATEGORIES:All Levels
LOCATION:
END:VEVENT
BEGIN:VEVENT
DTSTART;TZID=America/Los_Angeles:20271229T090000
DTEND;TZID=America/Los_Angeles:20271229T101500
DTSTAMP:20260425T190547
CREATED:20221123T220928Z
LAST-MODIFIED:20260423T030109Z
UID:10003483-1830070800-1830075300@laurayon.com
SUMMARY:Wednesday 9:00 am All Levels Yoga - online
DESCRIPTION:Join Laura for this on-going All Levels class via zoom. Register at https://laurayon.com/appointments/ \n$16 drop-in and 10-class card $140
URL:https://laurayon.com/event/wednesday-930-am-all-levels-yoga-online/2027-12-29/
CATEGORIES:All Levels
END:VEVENT
END:VCALENDAR