BEGIN:VCALENDAR
VERSION:2.0
PRODID:-//Laura Yon - ECPv6.15.20//NONSGML v1.0//EN
CALSCALE:GREGORIAN
METHOD:PUBLISH
X-ORIGINAL-URL:https://laurayon.com
X-WR-CALDESC:Events for Laura Yon
REFRESH-INTERVAL;VALUE=DURATION:PT1H
X-Robots-Tag:noindex
X-PUBLISHED-TTL:PT1H
BEGIN:VTIMEZONE
TZID:America/Los_Angeles
BEGIN:DAYLIGHT
TZOFFSETFROM:-0800
TZOFFSETTO:-0700
TZNAME:PDT
DTSTART:20240310T100000
END:DAYLIGHT
BEGIN:STANDARD
TZOFFSETFROM:-0700
TZOFFSETTO:-0800
TZNAME:PST
DTSTART:20241103T090000
END:STANDARD
BEGIN:DAYLIGHT
TZOFFSETFROM:-0800
TZOFFSETTO:-0700
TZNAME:PDT
DTSTART:20250309T100000
END:DAYLIGHT
BEGIN:STANDARD
TZOFFSETFROM:-0700
TZOFFSETTO:-0800
TZNAME:PST
DTSTART:20251102T090000
END:STANDARD
BEGIN:DAYLIGHT
TZOFFSETFROM:-0800
TZOFFSETTO:-0700
TZNAME:PDT
DTSTART:20260308T100000
END:DAYLIGHT
BEGIN:STANDARD
TZOFFSETFROM:-0700
TZOFFSETTO:-0800
TZNAME:PST
DTSTART:20261101T090000
END:STANDARD
END:VTIMEZONE
BEGIN:VEVENT
DTSTART;TZID=America/Los_Angeles:20250401T090000
DTEND;TZID=America/Los_Angeles:20250401T100000
DTSTAMP:20260425T052947
CREATED:20220928T224528Z
LAST-MODIFIED:20260411T020246Z
UID:10002155-1743498000-1743501600@laurayon.com
SUMMARY:Tuesday 9:00am Aging Gracefully Yoga- online
DESCRIPTION:$14 drop-in\, $120 for a 10-class card \nTo register\, https://laurayon.com/appointments/ \n“I was so happy to be in Aging Gracefully today. You and your teaching style are so good and feel so right for maintaining and healing these challenging bodies we live in.”  CF
URL:https://laurayon.com/event/tuesday-900am-aging-gracefully-yoga-online/2025-04-01/
CATEGORIES:Gentle
END:VEVENT
BEGIN:VEVENT
DTSTART;TZID=America/Los_Angeles:20250403T090000
DTEND;TZID=America/Los_Angeles:20250403T100000
DTSTAMP:20260425T052947
CREATED:20221031T203333Z
LAST-MODIFIED:20260411T020136Z
UID:10001847-1743670800-1743674400@laurayon.com
SUMMARY:Thursday 9:00 am Aging Gracefully Yoga - online
DESCRIPTION:$14 drop-in\, $120 for a 10-class card \nTo register\, https://laurayon.com/appointments/ \n“I was so happy to be in Aging Gracefully today. You and your teaching style are so good and feel so right for maintaining and healing these challenging bodies we live in.”  CF
URL:https://laurayon.com/event/900-am-aging-gracefully-yoga-2-2/2025-04-03/
CATEGORIES:Gentle
END:VEVENT
BEGIN:VEVENT
DTSTART;TZID=America/Los_Angeles:20250408T090000
DTEND;TZID=America/Los_Angeles:20250408T100000
DTSTAMP:20260425T052947
CREATED:20220928T224528Z
LAST-MODIFIED:20260411T020246Z
UID:10002156-1744102800-1744106400@laurayon.com
SUMMARY:Tuesday 9:00am Aging Gracefully Yoga- online
DESCRIPTION:$14 drop-in\, $120 for a 10-class card \nTo register\, https://laurayon.com/appointments/ \n“I was so happy to be in Aging Gracefully today. You and your teaching style are so good and feel so right for maintaining and healing these challenging bodies we live in.”  CF
URL:https://laurayon.com/event/tuesday-900am-aging-gracefully-yoga-online/2025-04-08/
CATEGORIES:Gentle
END:VEVENT
BEGIN:VEVENT
DTSTART;TZID=America/Los_Angeles:20250410T090000
DTEND;TZID=America/Los_Angeles:20250410T100000
DTSTAMP:20260425T052947
CREATED:20221031T203333Z
LAST-MODIFIED:20260411T020136Z
UID:10001848-1744275600-1744279200@laurayon.com
SUMMARY:Thursday 9:00 am Aging Gracefully Yoga - online
DESCRIPTION:$14 drop-in\, $120 for a 10-class card \nTo register\, https://laurayon.com/appointments/ \n“I was so happy to be in Aging Gracefully today. You and your teaching style are so good and feel so right for maintaining and healing these challenging bodies we live in.”  CF
URL:https://laurayon.com/event/900-am-aging-gracefully-yoga-2-2/2025-04-10/
CATEGORIES:Gentle
END:VEVENT
BEGIN:VEVENT
DTSTART;TZID=America/Los_Angeles:20250415T090000
DTEND;TZID=America/Los_Angeles:20250415T100000
DTSTAMP:20260425T052947
CREATED:20220928T224528Z
LAST-MODIFIED:20260411T020246Z
UID:10002157-1744707600-1744711200@laurayon.com
SUMMARY:Tuesday 9:00am Aging Gracefully Yoga- online
DESCRIPTION:$14 drop-in\, $120 for a 10-class card \nTo register\, https://laurayon.com/appointments/ \n“I was so happy to be in Aging Gracefully today. You and your teaching style are so good and feel so right for maintaining and healing these challenging bodies we live in.”  CF
URL:https://laurayon.com/event/tuesday-900am-aging-gracefully-yoga-online/2025-04-15/
CATEGORIES:Gentle
END:VEVENT
BEGIN:VEVENT
DTSTART;TZID=America/Los_Angeles:20250417T090000
DTEND;TZID=America/Los_Angeles:20250417T100000
DTSTAMP:20260425T052947
CREATED:20221031T203333Z
LAST-MODIFIED:20260411T020136Z
UID:10001849-1744880400-1744884000@laurayon.com
SUMMARY:Thursday 9:00 am Aging Gracefully Yoga - online
DESCRIPTION:$14 drop-in\, $120 for a 10-class card \nTo register\, https://laurayon.com/appointments/ \n“I was so happy to be in Aging Gracefully today. You and your teaching style are so good and feel so right for maintaining and healing these challenging bodies we live in.”  CF
URL:https://laurayon.com/event/900-am-aging-gracefully-yoga-2-2/2025-04-17/
CATEGORIES:Gentle
END:VEVENT
BEGIN:VEVENT
DTSTART;TZID=America/Los_Angeles:20250422T090000
DTEND;TZID=America/Los_Angeles:20250422T100000
DTSTAMP:20260425T052947
CREATED:20220928T224528Z
LAST-MODIFIED:20260411T020246Z
UID:10002158-1745312400-1745316000@laurayon.com
SUMMARY:Tuesday 9:00am Aging Gracefully Yoga- online
DESCRIPTION:$14 drop-in\, $120 for a 10-class card \nTo register\, https://laurayon.com/appointments/ \n“I was so happy to be in Aging Gracefully today. You and your teaching style are so good and feel so right for maintaining and healing these challenging bodies we live in.”  CF
URL:https://laurayon.com/event/tuesday-900am-aging-gracefully-yoga-online/2025-04-22/
CATEGORIES:Gentle
END:VEVENT
BEGIN:VEVENT
DTSTART;TZID=America/Los_Angeles:20250424T090000
DTEND;TZID=America/Los_Angeles:20250424T100000
DTSTAMP:20260425T052947
CREATED:20221031T203333Z
LAST-MODIFIED:20260411T020136Z
UID:10001850-1745485200-1745488800@laurayon.com
SUMMARY:Thursday 9:00 am Aging Gracefully Yoga - online
DESCRIPTION:$14 drop-in\, $120 for a 10-class card \nTo register\, https://laurayon.com/appointments/ \n“I was so happy to be in Aging Gracefully today. You and your teaching style are so good and feel so right for maintaining and healing these challenging bodies we live in.”  CF
URL:https://laurayon.com/event/900-am-aging-gracefully-yoga-2-2/2025-04-24/
CATEGORIES:Gentle
END:VEVENT
BEGIN:VEVENT
DTSTART;TZID=America/Los_Angeles:20250429T090000
DTEND;TZID=America/Los_Angeles:20250429T100000
DTSTAMP:20260425T052947
CREATED:20220928T224528Z
LAST-MODIFIED:20260411T020246Z
UID:10002159-1745917200-1745920800@laurayon.com
SUMMARY:Tuesday 9:00am Aging Gracefully Yoga- online
DESCRIPTION:$14 drop-in\, $120 for a 10-class card \nTo register\, https://laurayon.com/appointments/ \n“I was so happy to be in Aging Gracefully today. You and your teaching style are so good and feel so right for maintaining and healing these challenging bodies we live in.”  CF
URL:https://laurayon.com/event/tuesday-900am-aging-gracefully-yoga-online/2025-04-29/
CATEGORIES:Gentle
END:VEVENT
END:VCALENDAR