BEGIN:VCALENDAR
VERSION:2.0
PRODID:-//Laura Yon - ECPv6.15.20//NONSGML v1.0//EN
CALSCALE:GREGORIAN
METHOD:PUBLISH
X-ORIGINAL-URL:https://laurayon.com
X-WR-CALDESC:Events for Laura Yon
REFRESH-INTERVAL;VALUE=DURATION:PT1H
X-Robots-Tag:noindex
X-PUBLISHED-TTL:PT1H
BEGIN:VTIMEZONE
TZID:America/Los_Angeles
BEGIN:DAYLIGHT
TZOFFSETFROM:-0800
TZOFFSETTO:-0700
TZNAME:PDT
DTSTART:20240310T100000
END:DAYLIGHT
BEGIN:STANDARD
TZOFFSETFROM:-0700
TZOFFSETTO:-0800
TZNAME:PST
DTSTART:20241103T090000
END:STANDARD
BEGIN:DAYLIGHT
TZOFFSETFROM:-0800
TZOFFSETTO:-0700
TZNAME:PDT
DTSTART:20250309T100000
END:DAYLIGHT
BEGIN:STANDARD
TZOFFSETFROM:-0700
TZOFFSETTO:-0800
TZNAME:PST
DTSTART:20251102T090000
END:STANDARD
BEGIN:DAYLIGHT
TZOFFSETFROM:-0800
TZOFFSETTO:-0700
TZNAME:PDT
DTSTART:20260308T100000
END:DAYLIGHT
BEGIN:STANDARD
TZOFFSETFROM:-0700
TZOFFSETTO:-0800
TZNAME:PST
DTSTART:20261101T090000
END:STANDARD
END:VTIMEZONE
BEGIN:VEVENT
DTSTART;TZID=America/Los_Angeles:20251202T090000
DTEND;TZID=America/Los_Angeles:20251202T100000
DTSTAMP:20260424T165248
CREATED:20220928T224528Z
LAST-MODIFIED:20260411T020246Z
UID:10002190-1764666000-1764669600@laurayon.com
SUMMARY:Tuesday 9:00am Aging Gracefully Yoga- online
DESCRIPTION:$14 drop-in\, $120 for a 10-class card \nTo register\, https://laurayon.com/appointments/ \n“I was so happy to be in Aging Gracefully today. You and your teaching style are so good and feel so right for maintaining and healing these challenging bodies we live in.”  CF
URL:https://laurayon.com/event/tuesday-900am-aging-gracefully-yoga-online/2025-12-02/
CATEGORIES:Gentle
END:VEVENT
BEGIN:VEVENT
DTSTART;TZID=America/Los_Angeles:20251204T090000
DTEND;TZID=America/Los_Angeles:20251204T100000
DTSTAMP:20260424T165248
CREATED:20221031T203333Z
LAST-MODIFIED:20260411T020136Z
UID:10001882-1764838800-1764842400@laurayon.com
SUMMARY:Thursday 9:00 am Aging Gracefully Yoga - online
DESCRIPTION:$14 drop-in\, $120 for a 10-class card \nTo register\, https://laurayon.com/appointments/ \n“I was so happy to be in Aging Gracefully today. You and your teaching style are so good and feel so right for maintaining and healing these challenging bodies we live in.”  CF
URL:https://laurayon.com/event/900-am-aging-gracefully-yoga-2-2/2025-12-04/
CATEGORIES:Gentle
END:VEVENT
BEGIN:VEVENT
DTSTART;TZID=America/Los_Angeles:20251209T083000
DTEND;TZID=America/Los_Angeles:20251209T093000
DTSTAMP:20260424T165248
CREATED:20251108T034655Z
LAST-MODIFIED:20260209T191646Z
UID:10003693-1765269000-1765272600@laurayon.com
SUMMARY:Tuesday 8:30am Aging Gracefully Yoga - online
DESCRIPTION:$14 drop-in\, $120 for a 10-class card \nTo register\, https://laurayon.com/appointments/ \n“I was so happy to be in Aging Gracefully today. You and your teaching style are so good and feel so right for maintaining and healing these challenging bodies we live in.”  CF
URL:https://laurayon.com/event/tuesday-830-aging-gracefully-yoga-online/2025-12-09/
CATEGORIES:Gentle
END:VEVENT
BEGIN:VEVENT
DTSTART;TZID=America/Los_Angeles:20251211T090000
DTEND;TZID=America/Los_Angeles:20251211T100000
DTSTAMP:20260424T165248
CREATED:20221031T203333Z
LAST-MODIFIED:20260411T020136Z
UID:10001883-1765443600-1765447200@laurayon.com
SUMMARY:Thursday 9:00 am Aging Gracefully Yoga - online
DESCRIPTION:$14 drop-in\, $120 for a 10-class card \nTo register\, https://laurayon.com/appointments/ \n“I was so happy to be in Aging Gracefully today. You and your teaching style are so good and feel so right for maintaining and healing these challenging bodies we live in.”  CF
URL:https://laurayon.com/event/900-am-aging-gracefully-yoga-2-2/2025-12-11/
CATEGORIES:Gentle
END:VEVENT
BEGIN:VEVENT
DTSTART;TZID=America/Los_Angeles:20251216T090000
DTEND;TZID=America/Los_Angeles:20251216T100000
DTSTAMP:20260424T165248
CREATED:20220928T224528Z
LAST-MODIFIED:20260411T020246Z
UID:10002192-1765875600-1765879200@laurayon.com
SUMMARY:Tuesday 9:00am Aging Gracefully Yoga- online
DESCRIPTION:$14 drop-in\, $120 for a 10-class card \nTo register\, https://laurayon.com/appointments/ \n“I was so happy to be in Aging Gracefully today. You and your teaching style are so good and feel so right for maintaining and healing these challenging bodies we live in.”  CF
URL:https://laurayon.com/event/tuesday-900am-aging-gracefully-yoga-online/2025-12-16/
CATEGORIES:Gentle
END:VEVENT
BEGIN:VEVENT
DTSTART;TZID=America/Los_Angeles:20251218T090000
DTEND;TZID=America/Los_Angeles:20251218T100000
DTSTAMP:20260424T165248
CREATED:20221031T203333Z
LAST-MODIFIED:20260411T020136Z
UID:10001884-1766048400-1766052000@laurayon.com
SUMMARY:Thursday 9:00 am Aging Gracefully Yoga - online
DESCRIPTION:$14 drop-in\, $120 for a 10-class card \nTo register\, https://laurayon.com/appointments/ \n“I was so happy to be in Aging Gracefully today. You and your teaching style are so good and feel so right for maintaining and healing these challenging bodies we live in.”  CF
URL:https://laurayon.com/event/900-am-aging-gracefully-yoga-2-2/2025-12-18/
CATEGORIES:Gentle
END:VEVENT
BEGIN:VEVENT
DTSTART;TZID=America/Los_Angeles:20251223T090000
DTEND;TZID=America/Los_Angeles:20251223T100000
DTSTAMP:20260424T165248
CREATED:20220928T224528Z
LAST-MODIFIED:20260411T020246Z
UID:10002193-1766480400-1766484000@laurayon.com
SUMMARY:Tuesday 9:00am Aging Gracefully Yoga- online
DESCRIPTION:$14 drop-in\, $120 for a 10-class card \nTo register\, https://laurayon.com/appointments/ \n“I was so happy to be in Aging Gracefully today. You and your teaching style are so good and feel so right for maintaining and healing these challenging bodies we live in.”  CF
URL:https://laurayon.com/event/tuesday-900am-aging-gracefully-yoga-online/2025-12-23/
CATEGORIES:Gentle
END:VEVENT
BEGIN:VEVENT
DTSTART;TZID=America/Los_Angeles:20251225T090000
DTEND;TZID=America/Los_Angeles:20251225T100000
DTSTAMP:20260424T165248
CREATED:20221031T203333Z
LAST-MODIFIED:20260411T020136Z
UID:10003769-1766653200-1766656800@laurayon.com
SUMMARY:Thursday 9:00 am Aging Gracefully Yoga - online
DESCRIPTION:$14 drop-in\, $120 for a 10-class card \nTo register\, https://laurayon.com/appointments/ \n“I was so happy to be in Aging Gracefully today. You and your teaching style are so good and feel so right for maintaining and healing these challenging bodies we live in.”  CF
URL:https://laurayon.com/event/900-am-aging-gracefully-yoga-2-2/2025-12-25/
CATEGORIES:Gentle
END:VEVENT
BEGIN:VEVENT
DTSTART;TZID=America/Los_Angeles:20251230T090000
DTEND;TZID=America/Los_Angeles:20251230T100000
DTSTAMP:20260424T165248
CREATED:20220928T224528Z
LAST-MODIFIED:20260411T020246Z
UID:10002194-1767085200-1767088800@laurayon.com
SUMMARY:Tuesday 9:00am Aging Gracefully Yoga- online
DESCRIPTION:$14 drop-in\, $120 for a 10-class card \nTo register\, https://laurayon.com/appointments/ \n“I was so happy to be in Aging Gracefully today. You and your teaching style are so good and feel so right for maintaining and healing these challenging bodies we live in.”  CF
URL:https://laurayon.com/event/tuesday-900am-aging-gracefully-yoga-online/2025-12-30/
CATEGORIES:Gentle
END:VEVENT
END:VCALENDAR