BEGIN:VCALENDAR
VERSION:2.0
PRODID:-//Laura Yon - ECPv6.15.20//NONSGML v1.0//EN
CALSCALE:GREGORIAN
METHOD:PUBLISH
X-ORIGINAL-URL:https://laurayon.com
X-WR-CALDESC:Events for Laura Yon
REFRESH-INTERVAL;VALUE=DURATION:PT1H
X-Robots-Tag:noindex
X-PUBLISHED-TTL:PT1H
BEGIN:VTIMEZONE
TZID:America/Los_Angeles
BEGIN:DAYLIGHT
TZOFFSETFROM:-0800
TZOFFSETTO:-0700
TZNAME:PDT
DTSTART:20260308T100000
END:DAYLIGHT
BEGIN:STANDARD
TZOFFSETFROM:-0700
TZOFFSETTO:-0800
TZNAME:PST
DTSTART:20261101T090000
END:STANDARD
BEGIN:DAYLIGHT
TZOFFSETFROM:-0800
TZOFFSETTO:-0700
TZNAME:PDT
DTSTART:20270314T100000
END:DAYLIGHT
BEGIN:STANDARD
TZOFFSETFROM:-0700
TZOFFSETTO:-0800
TZNAME:PST
DTSTART:20271107T090000
END:STANDARD
BEGIN:DAYLIGHT
TZOFFSETFROM:-0800
TZOFFSETTO:-0700
TZNAME:PDT
DTSTART:20280312T100000
END:DAYLIGHT
BEGIN:STANDARD
TZOFFSETFROM:-0700
TZOFFSETTO:-0800
TZNAME:PST
DTSTART:20281105T090000
END:STANDARD
END:VTIMEZONE
BEGIN:VEVENT
DTSTART;TZID=America/Los_Angeles:20270504T090000
DTEND;TZID=America/Los_Angeles:20270504T100000
DTSTAMP:20260425T070932
CREATED:20220928T224528Z
LAST-MODIFIED:20260411T020246Z
UID:10002264-1809421200-1809424800@laurayon.com
SUMMARY:Tuesday 9:00am Aging Gracefully Yoga- online
DESCRIPTION:$14 drop-in\, $120 for a 10-class card \nTo register\, https://laurayon.com/appointments/ \n“I was so happy to be in Aging Gracefully today. You and your teaching style are so good and feel so right for maintaining and healing these challenging bodies we live in.”  CF
URL:https://laurayon.com/event/tuesday-900am-aging-gracefully-yoga-online/2027-05-04/
CATEGORIES:Gentle
END:VEVENT
BEGIN:VEVENT
DTSTART;TZID=America/Los_Angeles:20270506T090000
DTEND;TZID=America/Los_Angeles:20270506T100000
DTSTAMP:20260425T070932
CREATED:20221031T203333Z
LAST-MODIFIED:20260411T020136Z
UID:10001956-1809594000-1809597600@laurayon.com
SUMMARY:Thursday 9:00 am Aging Gracefully Yoga - online
DESCRIPTION:$14 drop-in\, $120 for a 10-class card \nTo register\, https://laurayon.com/appointments/ \n“I was so happy to be in Aging Gracefully today. You and your teaching style are so good and feel so right for maintaining and healing these challenging bodies we live in.”  CF
URL:https://laurayon.com/event/900-am-aging-gracefully-yoga-2-2/2027-05-06/
CATEGORIES:Gentle
END:VEVENT
BEGIN:VEVENT
DTSTART;TZID=America/Los_Angeles:20270511T090000
DTEND;TZID=America/Los_Angeles:20270511T100000
DTSTAMP:20260425T070932
CREATED:20220928T224528Z
LAST-MODIFIED:20260411T020246Z
UID:10002265-1810026000-1810029600@laurayon.com
SUMMARY:Tuesday 9:00am Aging Gracefully Yoga- online
DESCRIPTION:$14 drop-in\, $120 for a 10-class card \nTo register\, https://laurayon.com/appointments/ \n“I was so happy to be in Aging Gracefully today. You and your teaching style are so good and feel so right for maintaining and healing these challenging bodies we live in.”  CF
URL:https://laurayon.com/event/tuesday-900am-aging-gracefully-yoga-online/2027-05-11/
CATEGORIES:Gentle
END:VEVENT
BEGIN:VEVENT
DTSTART;TZID=America/Los_Angeles:20270513T090000
DTEND;TZID=America/Los_Angeles:20270513T100000
DTSTAMP:20260425T070932
CREATED:20221031T203333Z
LAST-MODIFIED:20260411T020136Z
UID:10001957-1810198800-1810202400@laurayon.com
SUMMARY:Thursday 9:00 am Aging Gracefully Yoga - online
DESCRIPTION:$14 drop-in\, $120 for a 10-class card \nTo register\, https://laurayon.com/appointments/ \n“I was so happy to be in Aging Gracefully today. You and your teaching style are so good and feel so right for maintaining and healing these challenging bodies we live in.”  CF
URL:https://laurayon.com/event/900-am-aging-gracefully-yoga-2-2/2027-05-13/
CATEGORIES:Gentle
END:VEVENT
BEGIN:VEVENT
DTSTART;TZID=America/Los_Angeles:20270518T090000
DTEND;TZID=America/Los_Angeles:20270518T100000
DTSTAMP:20260425T070932
CREATED:20220928T224528Z
LAST-MODIFIED:20260411T020246Z
UID:10002266-1810630800-1810634400@laurayon.com
SUMMARY:Tuesday 9:00am Aging Gracefully Yoga- online
DESCRIPTION:$14 drop-in\, $120 for a 10-class card \nTo register\, https://laurayon.com/appointments/ \n“I was so happy to be in Aging Gracefully today. You and your teaching style are so good and feel so right for maintaining and healing these challenging bodies we live in.”  CF
URL:https://laurayon.com/event/tuesday-900am-aging-gracefully-yoga-online/2027-05-18/
CATEGORIES:Gentle
END:VEVENT
BEGIN:VEVENT
DTSTART;TZID=America/Los_Angeles:20270520T090000
DTEND;TZID=America/Los_Angeles:20270520T100000
DTSTAMP:20260425T070932
CREATED:20221031T203333Z
LAST-MODIFIED:20260411T020136Z
UID:10001958-1810803600-1810807200@laurayon.com
SUMMARY:Thursday 9:00 am Aging Gracefully Yoga - online
DESCRIPTION:$14 drop-in\, $120 for a 10-class card \nTo register\, https://laurayon.com/appointments/ \n“I was so happy to be in Aging Gracefully today. You and your teaching style are so good and feel so right for maintaining and healing these challenging bodies we live in.”  CF
URL:https://laurayon.com/event/900-am-aging-gracefully-yoga-2-2/2027-05-20/
CATEGORIES:Gentle
END:VEVENT
BEGIN:VEVENT
DTSTART;TZID=America/Los_Angeles:20270525T090000
DTEND;TZID=America/Los_Angeles:20270525T100000
DTSTAMP:20260425T070932
CREATED:20220928T224528Z
LAST-MODIFIED:20260411T020246Z
UID:10002267-1811235600-1811239200@laurayon.com
SUMMARY:Tuesday 9:00am Aging Gracefully Yoga- online
DESCRIPTION:$14 drop-in\, $120 for a 10-class card \nTo register\, https://laurayon.com/appointments/ \n“I was so happy to be in Aging Gracefully today. You and your teaching style are so good and feel so right for maintaining and healing these challenging bodies we live in.”  CF
URL:https://laurayon.com/event/tuesday-900am-aging-gracefully-yoga-online/2027-05-25/
CATEGORIES:Gentle
END:VEVENT
BEGIN:VEVENT
DTSTART;TZID=America/Los_Angeles:20270527T090000
DTEND;TZID=America/Los_Angeles:20270527T100000
DTSTAMP:20260425T070932
CREATED:20221031T203333Z
LAST-MODIFIED:20260411T020136Z
UID:10001959-1811408400-1811412000@laurayon.com
SUMMARY:Thursday 9:00 am Aging Gracefully Yoga - online
DESCRIPTION:$14 drop-in\, $120 for a 10-class card \nTo register\, https://laurayon.com/appointments/ \n“I was so happy to be in Aging Gracefully today. You and your teaching style are so good and feel so right for maintaining and healing these challenging bodies we live in.”  CF
URL:https://laurayon.com/event/900-am-aging-gracefully-yoga-2-2/2027-05-27/
CATEGORIES:Gentle
END:VEVENT
END:VCALENDAR