BEGIN:VCALENDAR
VERSION:2.0
PRODID:-//Laura Yon - ECPv6.15.20//NONSGML v1.0//EN
CALSCALE:GREGORIAN
METHOD:PUBLISH
X-ORIGINAL-URL:https://laurayon.com
X-WR-CALDESC:Events for Laura Yon
REFRESH-INTERVAL;VALUE=DURATION:PT1H
X-Robots-Tag:noindex
X-PUBLISHED-TTL:PT1H
BEGIN:VTIMEZONE
TZID:America/Los_Angeles
BEGIN:DAYLIGHT
TZOFFSETFROM:-0800
TZOFFSETTO:-0700
TZNAME:PDT
DTSTART:20240310T100000
END:DAYLIGHT
BEGIN:STANDARD
TZOFFSETFROM:-0700
TZOFFSETTO:-0800
TZNAME:PST
DTSTART:20241103T090000
END:STANDARD
BEGIN:DAYLIGHT
TZOFFSETFROM:-0800
TZOFFSETTO:-0700
TZNAME:PDT
DTSTART:20250309T100000
END:DAYLIGHT
BEGIN:STANDARD
TZOFFSETFROM:-0700
TZOFFSETTO:-0800
TZNAME:PST
DTSTART:20251102T090000
END:STANDARD
BEGIN:DAYLIGHT
TZOFFSETFROM:-0800
TZOFFSETTO:-0700
TZNAME:PDT
DTSTART:20260308T100000
END:DAYLIGHT
BEGIN:STANDARD
TZOFFSETFROM:-0700
TZOFFSETTO:-0800
TZNAME:PST
DTSTART:20261101T090000
END:STANDARD
END:VTIMEZONE
BEGIN:VEVENT
DTSTART;TZID=America/Los_Angeles:20250803T090000
DTEND;TZID=America/Los_Angeles:20250803T103000
DTSTAMP:20260424T194624
CREATED:20221030T231032Z
LAST-MODIFIED:20260209T191913Z
UID:10002367-1754211600-1754217000@laurayon.com
SUMMARY:Sunday 9:00 am All Levels Yoga - online
DESCRIPTION:Join Laura every Sunday for this All Levels class that has been a constant for over 25 years. \n$16 drop-in and $140 for a 10-class card. \nRegister here https://laurayon.com/appointments/ \n 
URL:https://laurayon.com/event/sunday-900-am-all-levels-yoga-online-3/2025-08-03/
CATEGORIES:All Levels
END:VEVENT
BEGIN:VEVENT
DTSTART;TZID=America/Los_Angeles:20250805T090000
DTEND;TZID=America/Los_Angeles:20250805T100000
DTSTAMP:20260424T194624
CREATED:20220928T224528Z
LAST-MODIFIED:20260411T020246Z
UID:10002173-1754384400-1754388000@laurayon.com
SUMMARY:Tuesday 9:00am Aging Gracefully Yoga- online
DESCRIPTION:$14 drop-in\, $120 for a 10-class card \nTo register\, https://laurayon.com/appointments/ \n“I was so happy to be in Aging Gracefully today. You and your teaching style are so good and feel so right for maintaining and healing these challenging bodies we live in.”  CF
URL:https://laurayon.com/event/tuesday-900am-aging-gracefully-yoga-online/2025-08-05/
CATEGORIES:Gentle
END:VEVENT
BEGIN:VEVENT
DTSTART;TZID=America/Los_Angeles:20250805T173000
DTEND;TZID=America/Los_Angeles:20250805T184500
DTSTAMP:20260424T194624
CREATED:20241208T195918Z
LAST-MODIFIED:20260411T020415Z
UID:10003911-1754415000-1754419500@laurayon.com
SUMMARY:Tues Evening Online Yoga Series with Jay Neal
DESCRIPTION:Swami Jay Online Yoga Tuesday Evenings 5:30 – 6:45 PM \n$15 per class \nJay’s yoga class can be thought of as an inner journey from the subtle to the gross physical and back to the subtle. Breath-centered\, slow and simple\, basic poses\, moving through a broad range of motion and balance. Appropriate for strong beginners and those looking for a gentle-but-active practice. \nContact: swamijayyoga@gmail.com to register and Jay will send you the zoom link.
URL:https://laurayon.com/event/tues-evening-online-yoga-series-with-jay-neal/2025-08-05/
CATEGORIES:All Levels
LOCATION:
END:VEVENT
BEGIN:VEVENT
DTSTART;TZID=America/Los_Angeles:20250806T090000
DTEND;TZID=America/Los_Angeles:20250806T101500
DTSTAMP:20260424T194624
CREATED:20221123T220928Z
LAST-MODIFIED:20260423T030109Z
UID:10001633-1754470800-1754475300@laurayon.com
SUMMARY:Wednesday 9:00 am All Levels Yoga - online
DESCRIPTION:Join Laura for this on-going All Levels class via zoom. Register at https://laurayon.com/appointments/ \n$16 drop-in and 10-class card $140
URL:https://laurayon.com/event/wednesday-930-am-all-levels-yoga-online/2025-08-06/
CATEGORIES:All Levels
END:VEVENT
BEGIN:VEVENT
DTSTART;TZID=America/Los_Angeles:20250807T090000
DTEND;TZID=America/Los_Angeles:20250807T100000
DTSTAMP:20260424T194624
CREATED:20221031T203333Z
LAST-MODIFIED:20260411T020136Z
UID:10003358-1754557200-1754560800@laurayon.com
SUMMARY:Thursday 9:00 am Aging Gracefully Yoga - online
DESCRIPTION:$14 drop-in\, $120 for a 10-class card \nTo register\, https://laurayon.com/appointments/ \n“I was so happy to be in Aging Gracefully today. You and your teaching style are so good and feel so right for maintaining and healing these challenging bodies we live in.”  CF
URL:https://laurayon.com/event/900-am-aging-gracefully-yoga-2-2/2025-08-07/
CATEGORIES:Gentle
END:VEVENT
BEGIN:VEVENT
DTSTART;TZID=America/Los_Angeles:20250812T090000
DTEND;TZID=America/Los_Angeles:20250812T100000
DTSTAMP:20260424T194624
CREATED:20220928T224528Z
LAST-MODIFIED:20260411T020246Z
UID:10002174-1754989200-1754992800@laurayon.com
SUMMARY:Tuesday 9:00am Aging Gracefully Yoga- online
DESCRIPTION:$14 drop-in\, $120 for a 10-class card \nTo register\, https://laurayon.com/appointments/ \n“I was so happy to be in Aging Gracefully today. You and your teaching style are so good and feel so right for maintaining and healing these challenging bodies we live in.”  CF
URL:https://laurayon.com/event/tuesday-900am-aging-gracefully-yoga-online/2025-08-12/
CATEGORIES:Gentle
END:VEVENT
BEGIN:VEVENT
DTSTART;TZID=America/Los_Angeles:20250812T173000
DTEND;TZID=America/Los_Angeles:20250812T184500
DTSTAMP:20260424T194624
CREATED:20241208T195918Z
LAST-MODIFIED:20260411T020415Z
UID:10003912-1755019800-1755024300@laurayon.com
SUMMARY:Tues Evening Online Yoga Series with Jay Neal
DESCRIPTION:Swami Jay Online Yoga Tuesday Evenings 5:30 – 6:45 PM \n$15 per class \nJay’s yoga class can be thought of as an inner journey from the subtle to the gross physical and back to the subtle. Breath-centered\, slow and simple\, basic poses\, moving through a broad range of motion and balance. Appropriate for strong beginners and those looking for a gentle-but-active practice. \nContact: swamijayyoga@gmail.com to register and Jay will send you the zoom link.
URL:https://laurayon.com/event/tues-evening-online-yoga-series-with-jay-neal/2025-08-12/
CATEGORIES:All Levels
LOCATION:
END:VEVENT
BEGIN:VEVENT
DTSTART;TZID=America/Los_Angeles:20250813T090000
DTEND;TZID=America/Los_Angeles:20250813T101500
DTSTAMP:20260424T194624
CREATED:20221123T220928Z
LAST-MODIFIED:20260423T030109Z
UID:10001634-1755075600-1755080100@laurayon.com
SUMMARY:Wednesday 9:00 am All Levels Yoga - online
DESCRIPTION:Join Laura for this on-going All Levels class via zoom. Register at https://laurayon.com/appointments/ \n$16 drop-in and 10-class card $140
URL:https://laurayon.com/event/wednesday-930-am-all-levels-yoga-online/2025-08-13/
CATEGORIES:All Levels
END:VEVENT
BEGIN:VEVENT
DTSTART;TZID=America/Los_Angeles:20250814T090000
DTEND;TZID=America/Los_Angeles:20250814T100000
DTSTAMP:20260424T194624
CREATED:20221031T203333Z
LAST-MODIFIED:20260411T020136Z
UID:10001866-1755162000-1755165600@laurayon.com
SUMMARY:Thursday 9:00 am Aging Gracefully Yoga - online
DESCRIPTION:$14 drop-in\, $120 for a 10-class card \nTo register\, https://laurayon.com/appointments/ \n“I was so happy to be in Aging Gracefully today. You and your teaching style are so good and feel so right for maintaining and healing these challenging bodies we live in.”  CF
URL:https://laurayon.com/event/900-am-aging-gracefully-yoga-2-2/2025-08-14/
CATEGORIES:Gentle
END:VEVENT
BEGIN:VEVENT
DTSTART;TZID=America/Los_Angeles:20250817T090000
DTEND;TZID=America/Los_Angeles:20250817T103000
DTSTAMP:20260424T194624
CREATED:20221030T231032Z
LAST-MODIFIED:20260209T191913Z
UID:10002369-1755421200-1755426600@laurayon.com
SUMMARY:Sunday 9:00 am All Levels Yoga - online
DESCRIPTION:Join Laura every Sunday for this All Levels class that has been a constant for over 25 years. \n$16 drop-in and $140 for a 10-class card. \nRegister here https://laurayon.com/appointments/ \n 
URL:https://laurayon.com/event/sunday-900-am-all-levels-yoga-online-3/2025-08-17/
CATEGORIES:All Levels
END:VEVENT
BEGIN:VEVENT
DTSTART;TZID=America/Los_Angeles:20250819T090000
DTEND;TZID=America/Los_Angeles:20250819T100000
DTSTAMP:20260424T194624
CREATED:20220928T224528Z
LAST-MODIFIED:20260411T020246Z
UID:10003808-1755594000-1755597600@laurayon.com
SUMMARY:Tuesday 9:00am Aging Gracefully Yoga- online
DESCRIPTION:$14 drop-in\, $120 for a 10-class card \nTo register\, https://laurayon.com/appointments/ \n“I was so happy to be in Aging Gracefully today. You and your teaching style are so good and feel so right for maintaining and healing these challenging bodies we live in.”  CF
URL:https://laurayon.com/event/tuesday-900am-aging-gracefully-yoga-online/2025-08-19/
CATEGORIES:Gentle
END:VEVENT
BEGIN:VEVENT
DTSTART;TZID=America/Los_Angeles:20250819T173000
DTEND;TZID=America/Los_Angeles:20250819T184500
DTSTAMP:20260424T194624
CREATED:20241208T195918Z
LAST-MODIFIED:20260411T020415Z
UID:10003913-1755624600-1755629100@laurayon.com
SUMMARY:Tues Evening Online Yoga Series with Jay Neal
DESCRIPTION:Swami Jay Online Yoga Tuesday Evenings 5:30 – 6:45 PM \n$15 per class \nJay’s yoga class can be thought of as an inner journey from the subtle to the gross physical and back to the subtle. Breath-centered\, slow and simple\, basic poses\, moving through a broad range of motion and balance. Appropriate for strong beginners and those looking for a gentle-but-active practice. \nContact: swamijayyoga@gmail.com to register and Jay will send you the zoom link.
URL:https://laurayon.com/event/tues-evening-online-yoga-series-with-jay-neal/2025-08-19/
CATEGORIES:All Levels
LOCATION:
END:VEVENT
BEGIN:VEVENT
DTSTART;TZID=America/Los_Angeles:20250820T090000
DTEND;TZID=America/Los_Angeles:20250820T101500
DTSTAMP:20260424T194624
CREATED:20221123T220928Z
LAST-MODIFIED:20260423T030109Z
UID:10003360-1755680400-1755684900@laurayon.com
SUMMARY:Wednesday 9:00 am All Levels Yoga - online
DESCRIPTION:Join Laura for this on-going All Levels class via zoom. Register at https://laurayon.com/appointments/ \n$16 drop-in and 10-class card $140
URL:https://laurayon.com/event/wednesday-930-am-all-levels-yoga-online/2025-08-20/
CATEGORIES:All Levels
END:VEVENT
BEGIN:VEVENT
DTSTART;TZID=America/Los_Angeles:20250821T090000
DTEND;TZID=America/Los_Angeles:20250821T100000
DTSTAMP:20260424T194624
CREATED:20221031T203333Z
LAST-MODIFIED:20260411T020136Z
UID:10001867-1755766800-1755770400@laurayon.com
SUMMARY:Thursday 9:00 am Aging Gracefully Yoga - online
DESCRIPTION:$14 drop-in\, $120 for a 10-class card \nTo register\, https://laurayon.com/appointments/ \n“I was so happy to be in Aging Gracefully today. You and your teaching style are so good and feel so right for maintaining and healing these challenging bodies we live in.”  CF
URL:https://laurayon.com/event/900-am-aging-gracefully-yoga-2-2/2025-08-21/
CATEGORIES:Gentle
END:VEVENT
BEGIN:VEVENT
DTSTART;TZID=America/Los_Angeles:20250824T090000
DTEND;TZID=America/Los_Angeles:20250824T103000
DTSTAMP:20260424T194624
CREATED:20221030T231032Z
LAST-MODIFIED:20260209T191913Z
UID:10002370-1756026000-1756031400@laurayon.com
SUMMARY:Sunday 9:00 am All Levels Yoga - online
DESCRIPTION:Join Laura every Sunday for this All Levels class that has been a constant for over 25 years. \n$16 drop-in and $140 for a 10-class card. \nRegister here https://laurayon.com/appointments/ \n 
URL:https://laurayon.com/event/sunday-900-am-all-levels-yoga-online-3/2025-08-24/
CATEGORIES:All Levels
END:VEVENT
BEGIN:VEVENT
DTSTART;TZID=America/Los_Angeles:20250826T090000
DTEND;TZID=America/Los_Angeles:20250826T100000
DTSTAMP:20260424T194624
CREATED:20220928T224528Z
LAST-MODIFIED:20260411T020246Z
UID:10002176-1756198800-1756202400@laurayon.com
SUMMARY:Tuesday 9:00am Aging Gracefully Yoga- online
DESCRIPTION:$14 drop-in\, $120 for a 10-class card \nTo register\, https://laurayon.com/appointments/ \n“I was so happy to be in Aging Gracefully today. You and your teaching style are so good and feel so right for maintaining and healing these challenging bodies we live in.”  CF
URL:https://laurayon.com/event/tuesday-900am-aging-gracefully-yoga-online/2025-08-26/
CATEGORIES:Gentle
END:VEVENT
BEGIN:VEVENT
DTSTART;TZID=America/Los_Angeles:20250826T173000
DTEND;TZID=America/Los_Angeles:20250826T184500
DTSTAMP:20260424T194624
CREATED:20241208T195918Z
LAST-MODIFIED:20260411T020415Z
UID:10003914-1756229400-1756233900@laurayon.com
SUMMARY:Tues Evening Online Yoga Series with Jay Neal
DESCRIPTION:Swami Jay Online Yoga Tuesday Evenings 5:30 – 6:45 PM \n$15 per class \nJay’s yoga class can be thought of as an inner journey from the subtle to the gross physical and back to the subtle. Breath-centered\, slow and simple\, basic poses\, moving through a broad range of motion and balance. Appropriate for strong beginners and those looking for a gentle-but-active practice. \nContact: swamijayyoga@gmail.com to register and Jay will send you the zoom link.
URL:https://laurayon.com/event/tues-evening-online-yoga-series-with-jay-neal/2025-08-26/
CATEGORIES:All Levels
LOCATION:
END:VEVENT
BEGIN:VEVENT
DTSTART;TZID=America/Los_Angeles:20250827T090000
DTEND;TZID=America/Los_Angeles:20250827T101500
DTSTAMP:20260424T194624
CREATED:20221123T220928Z
LAST-MODIFIED:20260423T030109Z
UID:10003361-1756285200-1756289700@laurayon.com
SUMMARY:Wednesday 9:00 am All Levels Yoga - online
DESCRIPTION:Join Laura for this on-going All Levels class via zoom. Register at https://laurayon.com/appointments/ \n$16 drop-in and 10-class card $140
URL:https://laurayon.com/event/wednesday-930-am-all-levels-yoga-online/2025-08-27/
CATEGORIES:All Levels
END:VEVENT
BEGIN:VEVENT
DTSTART;TZID=America/Los_Angeles:20250828T090000
DTEND;TZID=America/Los_Angeles:20250828T100000
DTSTAMP:20260424T194624
CREATED:20221031T203333Z
LAST-MODIFIED:20260411T020136Z
UID:10001868-1756371600-1756375200@laurayon.com
SUMMARY:Thursday 9:00 am Aging Gracefully Yoga - online
DESCRIPTION:$14 drop-in\, $120 for a 10-class card \nTo register\, https://laurayon.com/appointments/ \n“I was so happy to be in Aging Gracefully today. You and your teaching style are so good and feel so right for maintaining and healing these challenging bodies we live in.”  CF
URL:https://laurayon.com/event/900-am-aging-gracefully-yoga-2-2/2025-08-28/
CATEGORIES:Gentle
END:VEVENT
BEGIN:VEVENT
DTSTART;TZID=America/Los_Angeles:20250831T090000
DTEND;TZID=America/Los_Angeles:20250831T103000
DTSTAMP:20260424T194624
CREATED:20221030T231032Z
LAST-MODIFIED:20260209T191913Z
UID:10002371-1756630800-1756636200@laurayon.com
SUMMARY:Sunday 9:00 am All Levels Yoga - online
DESCRIPTION:Join Laura every Sunday for this All Levels class that has been a constant for over 25 years. \n$16 drop-in and $140 for a 10-class card. \nRegister here https://laurayon.com/appointments/ \n 
URL:https://laurayon.com/event/sunday-900-am-all-levels-yoga-online-3/2025-08-31/
CATEGORIES:All Levels
END:VEVENT
END:VCALENDAR