BEGIN:VCALENDAR
VERSION:2.0
PRODID:-//Laura Yon - ECPv6.15.20//NONSGML v1.0//EN
CALSCALE:GREGORIAN
METHOD:PUBLISH
X-ORIGINAL-URL:https://laurayon.com
X-WR-CALDESC:Events for Laura Yon
REFRESH-INTERVAL;VALUE=DURATION:PT1H
X-Robots-Tag:noindex
X-PUBLISHED-TTL:PT1H
BEGIN:VTIMEZONE
TZID:America/Los_Angeles
BEGIN:DAYLIGHT
TZOFFSETFROM:-0800
TZOFFSETTO:-0700
TZNAME:PDT
DTSTART:20240310T100000
END:DAYLIGHT
BEGIN:STANDARD
TZOFFSETFROM:-0700
TZOFFSETTO:-0800
TZNAME:PST
DTSTART:20241103T090000
END:STANDARD
BEGIN:DAYLIGHT
TZOFFSETFROM:-0800
TZOFFSETTO:-0700
TZNAME:PDT
DTSTART:20250309T100000
END:DAYLIGHT
BEGIN:STANDARD
TZOFFSETFROM:-0700
TZOFFSETTO:-0800
TZNAME:PST
DTSTART:20251102T090000
END:STANDARD
BEGIN:DAYLIGHT
TZOFFSETFROM:-0800
TZOFFSETTO:-0700
TZNAME:PDT
DTSTART:20260308T100000
END:DAYLIGHT
BEGIN:STANDARD
TZOFFSETFROM:-0700
TZOFFSETTO:-0800
TZNAME:PST
DTSTART:20261101T090000
END:STANDARD
END:VTIMEZONE
BEGIN:VEVENT
DTSTART;TZID=America/Los_Angeles:20251102T090000
DTEND;TZID=America/Los_Angeles:20251102T103000
DTSTAMP:20260424T151249
CREATED:20221030T231032Z
LAST-MODIFIED:20260209T191913Z
UID:10002380-1762074000-1762079400@laurayon.com
SUMMARY:Sunday 9:00 am All Levels Yoga - online
DESCRIPTION:Join Laura every Sunday for this All Levels class that has been a constant for over 25 years. \n$16 drop-in and $140 for a 10-class card. \nRegister here https://laurayon.com/appointments/ \n 
URL:https://laurayon.com/event/sunday-900-am-all-levels-yoga-online-3/2025-11-02/
CATEGORIES:All Levels
END:VEVENT
BEGIN:VEVENT
DTSTART;TZID=America/Los_Angeles:20251102T090000
DTEND;TZID=America/Los_Angeles:20251102T103000
DTSTAMP:20260424T151249
CREATED:20240107T011224Z
LAST-MODIFIED:20260209T212040Z
UID:10002850-1762074000-1762079400@laurayon.com
SUMMARY:Sunday All Levels Yoga - in person at Blosm Studio - 8050 35th Ave NE Seattle\, WA 98115
DESCRIPTION:Twice per month\, we will gather to practice together at the beautiful Blosm Studio.\n8050 35th Ave NE\, Seattle\, WA 98115\n2026 dates:\nFeb  22\nMarch 8 & 22\nApril 5 & 26\nMay 10\nJune 7 & 21\nJuly 5 & 26\nAug 9 & 23\nSept 6 & 27\nOct 11 & 25\nNov 8 & 22\nDec 6 & 20 \nPlease register with the link below. \n\nAppointments & Registration
URL:https://laurayon.com/event/sunday-in-person-all-levels-yoga/2025-11-02/
LOCATION:Blosm Studio\, 8050 35th Ave NE\, Seattle\, WA\, 98115
CATEGORIES:All Levels
GEO:47.7207468;-122.2980879
X-APPLE-STRUCTURED-LOCATION;VALUE=URI;X-ADDRESS=Blosm Studio 8050 35th Ave NE Seattle WA 98115;X-APPLE-RADIUS=500;X-TITLE=8050 35th Ave NE:geo:-122.2980879,47.7207468
END:VEVENT
BEGIN:VEVENT
DTSTART;TZID=America/Los_Angeles:20251104T090000
DTEND;TZID=America/Los_Angeles:20251104T100000
DTSTAMP:20260424T151249
CREATED:20220928T224528Z
LAST-MODIFIED:20260411T020246Z
UID:10002186-1762246800-1762250400@laurayon.com
SUMMARY:Tuesday 9:00am Aging Gracefully Yoga- online
DESCRIPTION:$14 drop-in\, $120 for a 10-class card \nTo register\, https://laurayon.com/appointments/ \n“I was so happy to be in Aging Gracefully today. You and your teaching style are so good and feel so right for maintaining and healing these challenging bodies we live in.”  CF
URL:https://laurayon.com/event/tuesday-900am-aging-gracefully-yoga-online/2025-11-04/
CATEGORIES:Gentle
END:VEVENT
BEGIN:VEVENT
DTSTART;TZID=America/Los_Angeles:20251104T173000
DTEND;TZID=America/Los_Angeles:20251104T184500
DTSTAMP:20260424T151249
CREATED:20241208T195918Z
LAST-MODIFIED:20260411T020415Z
UID:10003924-1762277400-1762281900@laurayon.com
SUMMARY:Tues Evening Online Yoga Series with Jay Neal
DESCRIPTION:Swami Jay Online Yoga Tuesday Evenings 5:30 – 6:45 PM \n$15 per class \nJay’s yoga class can be thought of as an inner journey from the subtle to the gross physical and back to the subtle. Breath-centered\, slow and simple\, basic poses\, moving through a broad range of motion and balance. Appropriate for strong beginners and those looking for a gentle-but-active practice. \nContact: swamijayyoga@gmail.com to register and Jay will send you the zoom link.
URL:https://laurayon.com/event/tues-evening-online-yoga-series-with-jay-neal/2025-11-04/
CATEGORIES:All Levels
LOCATION:
END:VEVENT
BEGIN:VEVENT
DTSTART;TZID=America/Los_Angeles:20251105T090000
DTEND;TZID=America/Los_Angeles:20251105T101500
DTSTAMP:20260424T151249
CREATED:20221123T220928Z
LAST-MODIFIED:20260423T030109Z
UID:10003371-1762333200-1762337700@laurayon.com
SUMMARY:Wednesday 9:00 am All Levels Yoga - online
DESCRIPTION:Join Laura for this on-going All Levels class via zoom. Register at https://laurayon.com/appointments/ \n$16 drop-in and 10-class card $140
URL:https://laurayon.com/event/wednesday-930-am-all-levels-yoga-online/2025-11-05/
CATEGORIES:All Levels
END:VEVENT
BEGIN:VEVENT
DTSTART;TZID=America/Los_Angeles:20251106T090000
DTEND;TZID=America/Los_Angeles:20251106T100000
DTSTAMP:20260424T151249
CREATED:20221031T203333Z
LAST-MODIFIED:20260411T020136Z
UID:10001878-1762419600-1762423200@laurayon.com
SUMMARY:Thursday 9:00 am Aging Gracefully Yoga - online
DESCRIPTION:$14 drop-in\, $120 for a 10-class card \nTo register\, https://laurayon.com/appointments/ \n“I was so happy to be in Aging Gracefully today. You and your teaching style are so good and feel so right for maintaining and healing these challenging bodies we live in.”  CF
URL:https://laurayon.com/event/900-am-aging-gracefully-yoga-2-2/2025-11-06/
CATEGORIES:Gentle
END:VEVENT
BEGIN:VEVENT
DTSTART;TZID=America/Los_Angeles:20251109T090000
DTEND;TZID=America/Los_Angeles:20251109T103000
DTSTAMP:20260424T151249
CREATED:20221030T231032Z
LAST-MODIFIED:20260209T191913Z
UID:10002381-1762678800-1762684200@laurayon.com
SUMMARY:Sunday 9:00 am All Levels Yoga - online
DESCRIPTION:Join Laura every Sunday for this All Levels class that has been a constant for over 25 years. \n$16 drop-in and $140 for a 10-class card. \nRegister here https://laurayon.com/appointments/ \n 
URL:https://laurayon.com/event/sunday-900-am-all-levels-yoga-online-3/2025-11-09/
CATEGORIES:All Levels
END:VEVENT
BEGIN:VEVENT
DTSTART;TZID=America/Los_Angeles:20251111T090000
DTEND;TZID=America/Los_Angeles:20251111T100000
DTSTAMP:20260424T151249
CREATED:20220928T224528Z
LAST-MODIFIED:20260411T020246Z
UID:10003621-1762851600-1762855200@laurayon.com
SUMMARY:Tuesday 9:00am Aging Gracefully Yoga- online
DESCRIPTION:$14 drop-in\, $120 for a 10-class card \nTo register\, https://laurayon.com/appointments/ \n“I was so happy to be in Aging Gracefully today. You and your teaching style are so good and feel so right for maintaining and healing these challenging bodies we live in.”  CF
URL:https://laurayon.com/event/tuesday-900am-aging-gracefully-yoga-online/2025-11-11/
CATEGORIES:Gentle
END:VEVENT
BEGIN:VEVENT
DTSTART;TZID=America/Los_Angeles:20251111T173000
DTEND;TZID=America/Los_Angeles:20251111T184500
DTSTAMP:20260424T151249
CREATED:20241208T195918Z
LAST-MODIFIED:20260411T020415Z
UID:10003925-1762882200-1762886700@laurayon.com
SUMMARY:Tues Evening Online Yoga Series with Jay Neal
DESCRIPTION:Swami Jay Online Yoga Tuesday Evenings 5:30 – 6:45 PM \n$15 per class \nJay’s yoga class can be thought of as an inner journey from the subtle to the gross physical and back to the subtle. Breath-centered\, slow and simple\, basic poses\, moving through a broad range of motion and balance. Appropriate for strong beginners and those looking for a gentle-but-active practice. \nContact: swamijayyoga@gmail.com to register and Jay will send you the zoom link.
URL:https://laurayon.com/event/tues-evening-online-yoga-series-with-jay-neal/2025-11-11/
CATEGORIES:All Levels
LOCATION:
END:VEVENT
BEGIN:VEVENT
DTSTART;TZID=America/Los_Angeles:20251112T090000
DTEND;TZID=America/Los_Angeles:20251112T101500
DTSTAMP:20260424T151249
CREATED:20221123T220928Z
LAST-MODIFIED:20260423T030109Z
UID:10003372-1762938000-1762942500@laurayon.com
SUMMARY:Wednesday 9:00 am All Levels Yoga - online
DESCRIPTION:Join Laura for this on-going All Levels class via zoom. Register at https://laurayon.com/appointments/ \n$16 drop-in and 10-class card $140
URL:https://laurayon.com/event/wednesday-930-am-all-levels-yoga-online/2025-11-12/
CATEGORIES:All Levels
END:VEVENT
BEGIN:VEVENT
DTSTART;TZID=America/Los_Angeles:20251113T090000
DTEND;TZID=America/Los_Angeles:20251113T100000
DTSTAMP:20260424T151249
CREATED:20221031T203333Z
LAST-MODIFIED:20260411T020136Z
UID:10001879-1763024400-1763028000@laurayon.com
SUMMARY:Thursday 9:00 am Aging Gracefully Yoga - online
DESCRIPTION:$14 drop-in\, $120 for a 10-class card \nTo register\, https://laurayon.com/appointments/ \n“I was so happy to be in Aging Gracefully today. You and your teaching style are so good and feel so right for maintaining and healing these challenging bodies we live in.”  CF
URL:https://laurayon.com/event/900-am-aging-gracefully-yoga-2-2/2025-11-13/
CATEGORIES:Gentle
END:VEVENT
BEGIN:VEVENT
DTSTART;TZID=America/Los_Angeles:20251116T090000
DTEND;TZID=America/Los_Angeles:20251116T103000
DTSTAMP:20260424T151249
CREATED:20221030T231032Z
LAST-MODIFIED:20260209T191913Z
UID:10002382-1763283600-1763289000@laurayon.com
SUMMARY:Sunday 9:00 am All Levels Yoga - online
DESCRIPTION:Join Laura every Sunday for this All Levels class that has been a constant for over 25 years. \n$16 drop-in and $140 for a 10-class card. \nRegister here https://laurayon.com/appointments/ \n 
URL:https://laurayon.com/event/sunday-900-am-all-levels-yoga-online-3/2025-11-16/
CATEGORIES:All Levels
END:VEVENT
BEGIN:VEVENT
DTSTART;TZID=America/Los_Angeles:20251118T090000
DTEND;TZID=America/Los_Angeles:20251118T100000
DTSTAMP:20260424T151249
CREATED:20220928T224528Z
LAST-MODIFIED:20260411T020246Z
UID:10002188-1763456400-1763460000@laurayon.com
SUMMARY:Tuesday 9:00am Aging Gracefully Yoga- online
DESCRIPTION:$14 drop-in\, $120 for a 10-class card \nTo register\, https://laurayon.com/appointments/ \n“I was so happy to be in Aging Gracefully today. You and your teaching style are so good and feel so right for maintaining and healing these challenging bodies we live in.”  CF
URL:https://laurayon.com/event/tuesday-900am-aging-gracefully-yoga-online/2025-11-18/
CATEGORIES:Gentle
END:VEVENT
BEGIN:VEVENT
DTSTART;TZID=America/Los_Angeles:20251118T173000
DTEND;TZID=America/Los_Angeles:20251118T184500
DTSTAMP:20260424T151249
CREATED:20241208T195918Z
LAST-MODIFIED:20260411T020415Z
UID:10003926-1763487000-1763491500@laurayon.com
SUMMARY:Tues Evening Online Yoga Series with Jay Neal
DESCRIPTION:Swami Jay Online Yoga Tuesday Evenings 5:30 – 6:45 PM \n$15 per class \nJay’s yoga class can be thought of as an inner journey from the subtle to the gross physical and back to the subtle. Breath-centered\, slow and simple\, basic poses\, moving through a broad range of motion and balance. Appropriate for strong beginners and those looking for a gentle-but-active practice. \nContact: swamijayyoga@gmail.com to register and Jay will send you the zoom link.
URL:https://laurayon.com/event/tues-evening-online-yoga-series-with-jay-neal/2025-11-18/
CATEGORIES:All Levels
LOCATION:
END:VEVENT
BEGIN:VEVENT
DTSTART;TZID=America/Los_Angeles:20251119T090000
DTEND;TZID=America/Los_Angeles:20251119T101500
DTSTAMP:20260424T151249
CREATED:20221123T220928Z
LAST-MODIFIED:20260423T030109Z
UID:10003373-1763542800-1763547300@laurayon.com
SUMMARY:Wednesday 9:00 am All Levels Yoga - online
DESCRIPTION:Join Laura for this on-going All Levels class via zoom. Register at https://laurayon.com/appointments/ \n$16 drop-in and 10-class card $140
URL:https://laurayon.com/event/wednesday-930-am-all-levels-yoga-online/2025-11-19/
CATEGORIES:All Levels
END:VEVENT
BEGIN:VEVENT
DTSTART;TZID=America/Los_Angeles:20251120T090000
DTEND;TZID=America/Los_Angeles:20251120T100000
DTSTAMP:20260424T151249
CREATED:20221031T203333Z
LAST-MODIFIED:20260411T020136Z
UID:10001880-1763629200-1763632800@laurayon.com
SUMMARY:Thursday 9:00 am Aging Gracefully Yoga - online
DESCRIPTION:$14 drop-in\, $120 for a 10-class card \nTo register\, https://laurayon.com/appointments/ \n“I was so happy to be in Aging Gracefully today. You and your teaching style are so good and feel so right for maintaining and healing these challenging bodies we live in.”  CF
URL:https://laurayon.com/event/900-am-aging-gracefully-yoga-2-2/2025-11-20/
CATEGORIES:Gentle
END:VEVENT
BEGIN:VEVENT
DTSTART;TZID=America/Los_Angeles:20251123T090000
DTEND;TZID=America/Los_Angeles:20251123T103000
DTSTAMP:20260424T151249
CREATED:20221030T231032Z
LAST-MODIFIED:20260209T191913Z
UID:10002383-1763888400-1763893800@laurayon.com
SUMMARY:Sunday 9:00 am All Levels Yoga - online
DESCRIPTION:Join Laura every Sunday for this All Levels class that has been a constant for over 25 years. \n$16 drop-in and $140 for a 10-class card. \nRegister here https://laurayon.com/appointments/ \n 
URL:https://laurayon.com/event/sunday-900-am-all-levels-yoga-online-3/2025-11-23/
CATEGORIES:All Levels
END:VEVENT
BEGIN:VEVENT
DTSTART;TZID=America/Los_Angeles:20251125T090000
DTEND;TZID=America/Los_Angeles:20251125T100000
DTSTAMP:20260424T151249
CREATED:20220928T224528Z
LAST-MODIFIED:20260411T020246Z
UID:10002189-1764061200-1764064800@laurayon.com
SUMMARY:Tuesday 9:00am Aging Gracefully Yoga- online
DESCRIPTION:$14 drop-in\, $120 for a 10-class card \nTo register\, https://laurayon.com/appointments/ \n“I was so happy to be in Aging Gracefully today. You and your teaching style are so good and feel so right for maintaining and healing these challenging bodies we live in.”  CF
URL:https://laurayon.com/event/tuesday-900am-aging-gracefully-yoga-online/2025-11-25/
CATEGORIES:Gentle
END:VEVENT
BEGIN:VEVENT
DTSTART;TZID=America/Los_Angeles:20251125T173000
DTEND;TZID=America/Los_Angeles:20251125T184500
DTSTAMP:20260424T151249
CREATED:20241208T195918Z
LAST-MODIFIED:20260411T020415Z
UID:10003927-1764091800-1764096300@laurayon.com
SUMMARY:Tues Evening Online Yoga Series with Jay Neal
DESCRIPTION:Swami Jay Online Yoga Tuesday Evenings 5:30 – 6:45 PM \n$15 per class \nJay’s yoga class can be thought of as an inner journey from the subtle to the gross physical and back to the subtle. Breath-centered\, slow and simple\, basic poses\, moving through a broad range of motion and balance. Appropriate for strong beginners and those looking for a gentle-but-active practice. \nContact: swamijayyoga@gmail.com to register and Jay will send you the zoom link.
URL:https://laurayon.com/event/tues-evening-online-yoga-series-with-jay-neal/2025-11-25/
CATEGORIES:All Levels
LOCATION:
END:VEVENT
BEGIN:VEVENT
DTSTART;TZID=America/Los_Angeles:20251126T090000
DTEND;TZID=America/Los_Angeles:20251126T101500
DTSTAMP:20260424T151249
CREATED:20221123T220928Z
LAST-MODIFIED:20260423T030109Z
UID:10003374-1764147600-1764152100@laurayon.com
SUMMARY:Wednesday 9:00 am All Levels Yoga - online
DESCRIPTION:Join Laura for this on-going All Levels class via zoom. Register at https://laurayon.com/appointments/ \n$16 drop-in and 10-class card $140
URL:https://laurayon.com/event/wednesday-930-am-all-levels-yoga-online/2025-11-26/
CATEGORIES:All Levels
END:VEVENT
BEGIN:VEVENT
DTSTART;TZID=America/Los_Angeles:20251127T090000
DTEND;TZID=America/Los_Angeles:20251127T100000
DTSTAMP:20260424T151249
CREATED:20221031T203333Z
LAST-MODIFIED:20260411T020136Z
UID:10003768-1764234000-1764237600@laurayon.com
SUMMARY:Thursday 9:00 am Aging Gracefully Yoga - online
DESCRIPTION:$14 drop-in\, $120 for a 10-class card \nTo register\, https://laurayon.com/appointments/ \n“I was so happy to be in Aging Gracefully today. You and your teaching style are so good and feel so right for maintaining and healing these challenging bodies we live in.”  CF
URL:https://laurayon.com/event/900-am-aging-gracefully-yoga-2-2/2025-11-27/
CATEGORIES:Gentle
END:VEVENT
BEGIN:VEVENT
DTSTART;TZID=America/Los_Angeles:20251130T090000
DTEND;TZID=America/Los_Angeles:20251130T103000
DTSTAMP:20260424T151249
CREATED:20221030T231032Z
LAST-MODIFIED:20260209T191913Z
UID:10002384-1764493200-1764498600@laurayon.com
SUMMARY:Sunday 9:00 am All Levels Yoga - online
DESCRIPTION:Join Laura every Sunday for this All Levels class that has been a constant for over 25 years. \n$16 drop-in and $140 for a 10-class card. \nRegister here https://laurayon.com/appointments/ \n 
URL:https://laurayon.com/event/sunday-900-am-all-levels-yoga-online-3/2025-11-30/
CATEGORIES:All Levels
END:VEVENT
END:VCALENDAR