BEGIN:VCALENDAR
VERSION:2.0
PRODID:-//Laura Yon - ECPv6.15.20//NONSGML v1.0//EN
CALSCALE:GREGORIAN
METHOD:PUBLISH
X-ORIGINAL-URL:https://laurayon.com
X-WR-CALDESC:Events for Laura Yon
REFRESH-INTERVAL;VALUE=DURATION:PT1H
X-Robots-Tag:noindex
X-PUBLISHED-TTL:PT1H
BEGIN:VTIMEZONE
TZID:America/Los_Angeles
BEGIN:DAYLIGHT
TZOFFSETFROM:-0800
TZOFFSETTO:-0700
TZNAME:PDT
DTSTART:20270314T100000
END:DAYLIGHT
BEGIN:STANDARD
TZOFFSETFROM:-0700
TZOFFSETTO:-0800
TZNAME:PST
DTSTART:20271107T090000
END:STANDARD
BEGIN:DAYLIGHT
TZOFFSETFROM:-0800
TZOFFSETTO:-0700
TZNAME:PDT
DTSTART:20280312T100000
END:DAYLIGHT
BEGIN:STANDARD
TZOFFSETFROM:-0700
TZOFFSETTO:-0800
TZNAME:PST
DTSTART:20281105T090000
END:STANDARD
BEGIN:DAYLIGHT
TZOFFSETFROM:-0800
TZOFFSETTO:-0700
TZNAME:PDT
DTSTART:20290311T100000
END:DAYLIGHT
BEGIN:STANDARD
TZOFFSETFROM:-0700
TZOFFSETTO:-0800
TZNAME:PST
DTSTART:20291104T090000
END:STANDARD
END:VTIMEZONE
BEGIN:VEVENT
DTSTART;TZID=America/Los_Angeles:20280301T090000
DTEND;TZID=America/Los_Angeles:20280301T101500
DTSTAMP:20260425T195301
CREATED:20221123T220928Z
LAST-MODIFIED:20260423T030109Z
UID:10003492-1835514000-1835518500@laurayon.com
SUMMARY:Wednesday 9:00 am All Levels Yoga - online
DESCRIPTION:Join Laura for this on-going All Levels class via zoom. Register at https://laurayon.com/appointments/ \n$16 drop-in and 10-class card $140
URL:https://laurayon.com/event/wednesday-930-am-all-levels-yoga-online/2028-03-01/
CATEGORIES:All Levels
END:VEVENT
BEGIN:VEVENT
DTSTART;TZID=America/Los_Angeles:20280302T090000
DTEND;TZID=America/Los_Angeles:20280302T100000
DTSTAMP:20260425T195301
CREATED:20221031T203333Z
LAST-MODIFIED:20260411T020136Z
UID:10001999-1835600400-1835604000@laurayon.com
SUMMARY:Thursday 9:00 am Aging Gracefully Yoga - online
DESCRIPTION:$14 drop-in\, $120 for a 10-class card \nTo register\, https://laurayon.com/appointments/ \n“I was so happy to be in Aging Gracefully today. You and your teaching style are so good and feel so right for maintaining and healing these challenging bodies we live in.”  CF
URL:https://laurayon.com/event/900-am-aging-gracefully-yoga-2-2/2028-03-02/
CATEGORIES:Gentle
END:VEVENT
BEGIN:VEVENT
DTSTART;TZID=America/Los_Angeles:20280305T090000
DTEND;TZID=America/Los_Angeles:20280305T103000
DTSTAMP:20260425T195301
CREATED:20221030T231032Z
LAST-MODIFIED:20260209T191913Z
UID:10002502-1835859600-1835865000@laurayon.com
SUMMARY:Sunday 9:00 am All Levels Yoga - online
DESCRIPTION:Join Laura every Sunday for this All Levels class that has been a constant for over 25 years. \n$16 drop-in and $140 for a 10-class card. \nRegister here https://laurayon.com/appointments/ \n 
URL:https://laurayon.com/event/sunday-900-am-all-levels-yoga-online-3/2028-03-05/
CATEGORIES:All Levels
END:VEVENT
BEGIN:VEVENT
DTSTART;TZID=America/Los_Angeles:20280307T090000
DTEND;TZID=America/Los_Angeles:20280307T100000
DTSTAMP:20260425T195301
CREATED:20220928T224528Z
LAST-MODIFIED:20260411T020246Z
UID:10002308-1836032400-1836036000@laurayon.com
SUMMARY:Tuesday 9:00am Aging Gracefully Yoga- online
DESCRIPTION:$14 drop-in\, $120 for a 10-class card \nTo register\, https://laurayon.com/appointments/ \n“I was so happy to be in Aging Gracefully today. You and your teaching style are so good and feel so right for maintaining and healing these challenging bodies we live in.”  CF
URL:https://laurayon.com/event/tuesday-900am-aging-gracefully-yoga-online/2028-03-07/
CATEGORIES:Gentle
END:VEVENT
BEGIN:VEVENT
DTSTART;TZID=America/Los_Angeles:20280307T173000
DTEND;TZID=America/Los_Angeles:20280307T184500
DTSTAMP:20260425T195301
CREATED:20241208T195918Z
LAST-MODIFIED:20260411T020415Z
UID:10004044-1836063000-1836067500@laurayon.com
SUMMARY:Tues Evening Online Yoga Series with Jay Neal
DESCRIPTION:Swami Jay Online Yoga Tuesday Evenings 5:30 – 6:45 PM \n$15 per class \nJay’s yoga class can be thought of as an inner journey from the subtle to the gross physical and back to the subtle. Breath-centered\, slow and simple\, basic poses\, moving through a broad range of motion and balance. Appropriate for strong beginners and those looking for a gentle-but-active practice. \nContact: swamijayyoga@gmail.com to register and Jay will send you the zoom link.
URL:https://laurayon.com/event/tues-evening-online-yoga-series-with-jay-neal/2028-03-07/
CATEGORIES:All Levels
LOCATION:
END:VEVENT
BEGIN:VEVENT
DTSTART;TZID=America/Los_Angeles:20280308T090000
DTEND;TZID=America/Los_Angeles:20280308T101500
DTSTAMP:20260425T195301
CREATED:20221123T220928Z
LAST-MODIFIED:20260423T030109Z
UID:10003493-1836118800-1836123300@laurayon.com
SUMMARY:Wednesday 9:00 am All Levels Yoga - online
DESCRIPTION:Join Laura for this on-going All Levels class via zoom. Register at https://laurayon.com/appointments/ \n$16 drop-in and 10-class card $140
URL:https://laurayon.com/event/wednesday-930-am-all-levels-yoga-online/2028-03-08/
CATEGORIES:All Levels
END:VEVENT
BEGIN:VEVENT
DTSTART;TZID=America/Los_Angeles:20280309T090000
DTEND;TZID=America/Los_Angeles:20280309T100000
DTSTAMP:20260425T195301
CREATED:20221031T203333Z
LAST-MODIFIED:20260411T020136Z
UID:10002000-1836205200-1836208800@laurayon.com
SUMMARY:Thursday 9:00 am Aging Gracefully Yoga - online
DESCRIPTION:$14 drop-in\, $120 for a 10-class card \nTo register\, https://laurayon.com/appointments/ \n“I was so happy to be in Aging Gracefully today. You and your teaching style are so good and feel so right for maintaining and healing these challenging bodies we live in.”  CF
URL:https://laurayon.com/event/900-am-aging-gracefully-yoga-2-2/2028-03-09/
CATEGORIES:Gentle
END:VEVENT
BEGIN:VEVENT
DTSTART;TZID=America/Los_Angeles:20280312T090000
DTEND;TZID=America/Los_Angeles:20280312T103000
DTSTAMP:20260425T195301
CREATED:20221030T231032Z
LAST-MODIFIED:20260209T191913Z
UID:10002503-1836464400-1836469800@laurayon.com
SUMMARY:Sunday 9:00 am All Levels Yoga - online
DESCRIPTION:Join Laura every Sunday for this All Levels class that has been a constant for over 25 years. \n$16 drop-in and $140 for a 10-class card. \nRegister here https://laurayon.com/appointments/ \n 
URL:https://laurayon.com/event/sunday-900-am-all-levels-yoga-online-3/2028-03-12/
CATEGORIES:All Levels
END:VEVENT
BEGIN:VEVENT
DTSTART;TZID=America/Los_Angeles:20280314T090000
DTEND;TZID=America/Los_Angeles:20280314T100000
DTSTAMP:20260425T195301
CREATED:20220928T224528Z
LAST-MODIFIED:20260411T020246Z
UID:10002309-1836637200-1836640800@laurayon.com
SUMMARY:Tuesday 9:00am Aging Gracefully Yoga- online
DESCRIPTION:$14 drop-in\, $120 for a 10-class card \nTo register\, https://laurayon.com/appointments/ \n“I was so happy to be in Aging Gracefully today. You and your teaching style are so good and feel so right for maintaining and healing these challenging bodies we live in.”  CF
URL:https://laurayon.com/event/tuesday-900am-aging-gracefully-yoga-online/2028-03-14/
CATEGORIES:Gentle
END:VEVENT
BEGIN:VEVENT
DTSTART;TZID=America/Los_Angeles:20280314T173000
DTEND;TZID=America/Los_Angeles:20280314T184500
DTSTAMP:20260425T195301
CREATED:20241208T195918Z
LAST-MODIFIED:20260411T020415Z
UID:10004045-1836667800-1836672300@laurayon.com
SUMMARY:Tues Evening Online Yoga Series with Jay Neal
DESCRIPTION:Swami Jay Online Yoga Tuesday Evenings 5:30 – 6:45 PM \n$15 per class \nJay’s yoga class can be thought of as an inner journey from the subtle to the gross physical and back to the subtle. Breath-centered\, slow and simple\, basic poses\, moving through a broad range of motion and balance. Appropriate for strong beginners and those looking for a gentle-but-active practice. \nContact: swamijayyoga@gmail.com to register and Jay will send you the zoom link.
URL:https://laurayon.com/event/tues-evening-online-yoga-series-with-jay-neal/2028-03-14/
CATEGORIES:All Levels
LOCATION:
END:VEVENT
BEGIN:VEVENT
DTSTART;TZID=America/Los_Angeles:20280315T090000
DTEND;TZID=America/Los_Angeles:20280315T101500
DTSTAMP:20260425T195301
CREATED:20221123T220928Z
LAST-MODIFIED:20260423T030109Z
UID:10003494-1836723600-1836728100@laurayon.com
SUMMARY:Wednesday 9:00 am All Levels Yoga - online
DESCRIPTION:Join Laura for this on-going All Levels class via zoom. Register at https://laurayon.com/appointments/ \n$16 drop-in and 10-class card $140
URL:https://laurayon.com/event/wednesday-930-am-all-levels-yoga-online/2028-03-15/
CATEGORIES:All Levels
END:VEVENT
BEGIN:VEVENT
DTSTART;TZID=America/Los_Angeles:20280316T090000
DTEND;TZID=America/Los_Angeles:20280316T100000
DTSTAMP:20260425T195301
CREATED:20221031T203333Z
LAST-MODIFIED:20260411T020136Z
UID:10002001-1836810000-1836813600@laurayon.com
SUMMARY:Thursday 9:00 am Aging Gracefully Yoga - online
DESCRIPTION:$14 drop-in\, $120 for a 10-class card \nTo register\, https://laurayon.com/appointments/ \n“I was so happy to be in Aging Gracefully today. You and your teaching style are so good and feel so right for maintaining and healing these challenging bodies we live in.”  CF
URL:https://laurayon.com/event/900-am-aging-gracefully-yoga-2-2/2028-03-16/
CATEGORIES:Gentle
END:VEVENT
BEGIN:VEVENT
DTSTART;TZID=America/Los_Angeles:20280319T090000
DTEND;TZID=America/Los_Angeles:20280319T103000
DTSTAMP:20260425T195301
CREATED:20221030T231032Z
LAST-MODIFIED:20260209T191913Z
UID:10002504-1837069200-1837074600@laurayon.com
SUMMARY:Sunday 9:00 am All Levels Yoga - online
DESCRIPTION:Join Laura every Sunday for this All Levels class that has been a constant for over 25 years. \n$16 drop-in and $140 for a 10-class card. \nRegister here https://laurayon.com/appointments/ \n 
URL:https://laurayon.com/event/sunday-900-am-all-levels-yoga-online-3/2028-03-19/
CATEGORIES:All Levels
END:VEVENT
BEGIN:VEVENT
DTSTART;TZID=America/Los_Angeles:20280321T090000
DTEND;TZID=America/Los_Angeles:20280321T100000
DTSTAMP:20260425T195301
CREATED:20220928T224528Z
LAST-MODIFIED:20260411T020246Z
UID:10002310-1837242000-1837245600@laurayon.com
SUMMARY:Tuesday 9:00am Aging Gracefully Yoga- online
DESCRIPTION:$14 drop-in\, $120 for a 10-class card \nTo register\, https://laurayon.com/appointments/ \n“I was so happy to be in Aging Gracefully today. You and your teaching style are so good and feel so right for maintaining and healing these challenging bodies we live in.”  CF
URL:https://laurayon.com/event/tuesday-900am-aging-gracefully-yoga-online/2028-03-21/
CATEGORIES:Gentle
END:VEVENT
BEGIN:VEVENT
DTSTART;TZID=America/Los_Angeles:20280321T173000
DTEND;TZID=America/Los_Angeles:20280321T184500
DTSTAMP:20260425T195301
CREATED:20241208T195918Z
LAST-MODIFIED:20260411T020415Z
UID:10004046-1837272600-1837277100@laurayon.com
SUMMARY:Tues Evening Online Yoga Series with Jay Neal
DESCRIPTION:Swami Jay Online Yoga Tuesday Evenings 5:30 – 6:45 PM \n$15 per class \nJay’s yoga class can be thought of as an inner journey from the subtle to the gross physical and back to the subtle. Breath-centered\, slow and simple\, basic poses\, moving through a broad range of motion and balance. Appropriate for strong beginners and those looking for a gentle-but-active practice. \nContact: swamijayyoga@gmail.com to register and Jay will send you the zoom link.
URL:https://laurayon.com/event/tues-evening-online-yoga-series-with-jay-neal/2028-03-21/
CATEGORIES:All Levels
LOCATION:
END:VEVENT
BEGIN:VEVENT
DTSTART;TZID=America/Los_Angeles:20280322T090000
DTEND;TZID=America/Los_Angeles:20280322T101500
DTSTAMP:20260425T195301
CREATED:20221123T220928Z
LAST-MODIFIED:20260423T030109Z
UID:10003495-1837328400-1837332900@laurayon.com
SUMMARY:Wednesday 9:00 am All Levels Yoga - online
DESCRIPTION:Join Laura for this on-going All Levels class via zoom. Register at https://laurayon.com/appointments/ \n$16 drop-in and 10-class card $140
URL:https://laurayon.com/event/wednesday-930-am-all-levels-yoga-online/2028-03-22/
CATEGORIES:All Levels
END:VEVENT
BEGIN:VEVENT
DTSTART;TZID=America/Los_Angeles:20280323T090000
DTEND;TZID=America/Los_Angeles:20280323T100000
DTSTAMP:20260425T195301
CREATED:20221031T203333Z
LAST-MODIFIED:20260411T020136Z
UID:10002002-1837414800-1837418400@laurayon.com
SUMMARY:Thursday 9:00 am Aging Gracefully Yoga - online
DESCRIPTION:$14 drop-in\, $120 for a 10-class card \nTo register\, https://laurayon.com/appointments/ \n“I was so happy to be in Aging Gracefully today. You and your teaching style are so good and feel so right for maintaining and healing these challenging bodies we live in.”  CF
URL:https://laurayon.com/event/900-am-aging-gracefully-yoga-2-2/2028-03-23/
CATEGORIES:Gentle
END:VEVENT
BEGIN:VEVENT
DTSTART;TZID=America/Los_Angeles:20280326T090000
DTEND;TZID=America/Los_Angeles:20280326T103000
DTSTAMP:20260425T195301
CREATED:20221030T231032Z
LAST-MODIFIED:20260209T191913Z
UID:10002505-1837674000-1837679400@laurayon.com
SUMMARY:Sunday 9:00 am All Levels Yoga - online
DESCRIPTION:Join Laura every Sunday for this All Levels class that has been a constant for over 25 years. \n$16 drop-in and $140 for a 10-class card. \nRegister here https://laurayon.com/appointments/ \n 
URL:https://laurayon.com/event/sunday-900-am-all-levels-yoga-online-3/2028-03-26/
CATEGORIES:All Levels
END:VEVENT
BEGIN:VEVENT
DTSTART;TZID=America/Los_Angeles:20280328T090000
DTEND;TZID=America/Los_Angeles:20280328T100000
DTSTAMP:20260425T195301
CREATED:20220928T224528Z
LAST-MODIFIED:20260411T020246Z
UID:10002311-1837846800-1837850400@laurayon.com
SUMMARY:Tuesday 9:00am Aging Gracefully Yoga- online
DESCRIPTION:$14 drop-in\, $120 for a 10-class card \nTo register\, https://laurayon.com/appointments/ \n“I was so happy to be in Aging Gracefully today. You and your teaching style are so good and feel so right for maintaining and healing these challenging bodies we live in.”  CF
URL:https://laurayon.com/event/tuesday-900am-aging-gracefully-yoga-online/2028-03-28/
CATEGORIES:Gentle
END:VEVENT
BEGIN:VEVENT
DTSTART;TZID=America/Los_Angeles:20280328T173000
DTEND;TZID=America/Los_Angeles:20280328T184500
DTSTAMP:20260425T195301
CREATED:20241208T195918Z
LAST-MODIFIED:20260411T020415Z
UID:10004047-1837877400-1837881900@laurayon.com
SUMMARY:Tues Evening Online Yoga Series with Jay Neal
DESCRIPTION:Swami Jay Online Yoga Tuesday Evenings 5:30 – 6:45 PM \n$15 per class \nJay’s yoga class can be thought of as an inner journey from the subtle to the gross physical and back to the subtle. Breath-centered\, slow and simple\, basic poses\, moving through a broad range of motion and balance. Appropriate for strong beginners and those looking for a gentle-but-active practice. \nContact: swamijayyoga@gmail.com to register and Jay will send you the zoom link.
URL:https://laurayon.com/event/tues-evening-online-yoga-series-with-jay-neal/2028-03-28/
CATEGORIES:All Levels
LOCATION:
END:VEVENT
BEGIN:VEVENT
DTSTART;TZID=America/Los_Angeles:20280329T090000
DTEND;TZID=America/Los_Angeles:20280329T101500
DTSTAMP:20260425T195301
CREATED:20221123T220928Z
LAST-MODIFIED:20260423T030109Z
UID:10003496-1837933200-1837937700@laurayon.com
SUMMARY:Wednesday 9:00 am All Levels Yoga - online
DESCRIPTION:Join Laura for this on-going All Levels class via zoom. Register at https://laurayon.com/appointments/ \n$16 drop-in and 10-class card $140
URL:https://laurayon.com/event/wednesday-930-am-all-levels-yoga-online/2028-03-29/
CATEGORIES:All Levels
END:VEVENT
BEGIN:VEVENT
DTSTART;TZID=America/Los_Angeles:20280330T090000
DTEND;TZID=America/Los_Angeles:20280330T100000
DTSTAMP:20260425T195301
CREATED:20221031T203333Z
LAST-MODIFIED:20260411T020136Z
UID:10002003-1838019600-1838023200@laurayon.com
SUMMARY:Thursday 9:00 am Aging Gracefully Yoga - online
DESCRIPTION:$14 drop-in\, $120 for a 10-class card \nTo register\, https://laurayon.com/appointments/ \n“I was so happy to be in Aging Gracefully today. You and your teaching style are so good and feel so right for maintaining and healing these challenging bodies we live in.”  CF
URL:https://laurayon.com/event/900-am-aging-gracefully-yoga-2-2/2028-03-30/
CATEGORIES:Gentle
END:VEVENT
END:VCALENDAR