BEGIN:VCALENDAR
VERSION:2.0
PRODID:-//Laura Yon - ECPv6.15.20//NONSGML v1.0//EN
CALSCALE:GREGORIAN
METHOD:PUBLISH
X-WR-CALNAME:Laura Yon
X-ORIGINAL-URL:https://laurayon.com
X-WR-CALDESC:Events for Laura Yon
REFRESH-INTERVAL;VALUE=DURATION:PT1H
X-Robots-Tag:noindex
X-PUBLISHED-TTL:PT1H
BEGIN:VTIMEZONE
TZID:America/Los_Angeles
BEGIN:DAYLIGHT
TZOFFSETFROM:-0800
TZOFFSETTO:-0700
TZNAME:PDT
DTSTART:20250309T100000
END:DAYLIGHT
BEGIN:STANDARD
TZOFFSETFROM:-0700
TZOFFSETTO:-0800
TZNAME:PST
DTSTART:20251102T090000
END:STANDARD
BEGIN:DAYLIGHT
TZOFFSETFROM:-0800
TZOFFSETTO:-0700
TZNAME:PDT
DTSTART:20260308T100000
END:DAYLIGHT
BEGIN:STANDARD
TZOFFSETFROM:-0700
TZOFFSETTO:-0800
TZNAME:PST
DTSTART:20261101T090000
END:STANDARD
BEGIN:DAYLIGHT
TZOFFSETFROM:-0800
TZOFFSETTO:-0700
TZNAME:PDT
DTSTART:20270314T100000
END:DAYLIGHT
BEGIN:STANDARD
TZOFFSETFROM:-0700
TZOFFSETTO:-0800
TZNAME:PST
DTSTART:20271107T090000
END:STANDARD
END:VTIMEZONE
BEGIN:VEVENT
DTSTART;TZID=America/Los_Angeles:20260430T090000
DTEND;TZID=America/Los_Angeles:20260430T100000
DTSTAMP:20260424T085154
CREATED:20221031T203333Z
LAST-MODIFIED:20260411T020136Z
UID:10001903-1777539600-1777543200@laurayon.com
SUMMARY:Thursday 9:00 am Aging Gracefully Yoga - online
DESCRIPTION:$14 drop-in\, $120 for a 10-class card \nTo register\, https://laurayon.com/appointments/ \n“I was so happy to be in Aging Gracefully today. You and your teaching style are so good and feel so right for maintaining and healing these challenging bodies we live in.”  CF
URL:https://laurayon.com/event/900-am-aging-gracefully-yoga-2-2/2026-04-30/
CATEGORIES:Gentle
END:VEVENT
BEGIN:VEVENT
DTSTART;TZID=America/Los_Angeles:20260507T090000
DTEND;TZID=America/Los_Angeles:20260507T100000
DTSTAMP:20260424T085154
CREATED:20221031T203333Z
LAST-MODIFIED:20260411T020136Z
UID:10001904-1778144400-1778148000@laurayon.com
SUMMARY:Thursday 9:00 am Aging Gracefully Yoga - online
DESCRIPTION:$14 drop-in\, $120 for a 10-class card \nTo register\, https://laurayon.com/appointments/ \n“I was so happy to be in Aging Gracefully today. You and your teaching style are so good and feel so right for maintaining and healing these challenging bodies we live in.”  CF
URL:https://laurayon.com/event/900-am-aging-gracefully-yoga-2-2/2026-05-07/
CATEGORIES:Gentle
END:VEVENT
BEGIN:VEVENT
DTSTART;TZID=America/Los_Angeles:20260514T090000
DTEND;TZID=America/Los_Angeles:20260514T100000
DTSTAMP:20260424T085154
CREATED:20221031T203333Z
LAST-MODIFIED:20260411T020136Z
UID:10001905-1778749200-1778752800@laurayon.com
SUMMARY:Thursday 9:00 am Aging Gracefully Yoga - online
DESCRIPTION:$14 drop-in\, $120 for a 10-class card \nTo register\, https://laurayon.com/appointments/ \n“I was so happy to be in Aging Gracefully today. You and your teaching style are so good and feel so right for maintaining and healing these challenging bodies we live in.”  CF
URL:https://laurayon.com/event/900-am-aging-gracefully-yoga-2-2/2026-05-14/
CATEGORIES:Gentle
END:VEVENT
BEGIN:VEVENT
DTSTART;TZID=America/Los_Angeles:20260521T090000
DTEND;TZID=America/Los_Angeles:20260521T100000
DTSTAMP:20260424T085154
CREATED:20221031T203333Z
LAST-MODIFIED:20260411T020136Z
UID:10001906-1779354000-1779357600@laurayon.com
SUMMARY:Thursday 9:00 am Aging Gracefully Yoga - online
DESCRIPTION:$14 drop-in\, $120 for a 10-class card \nTo register\, https://laurayon.com/appointments/ \n“I was so happy to be in Aging Gracefully today. You and your teaching style are so good and feel so right for maintaining and healing these challenging bodies we live in.”  CF
URL:https://laurayon.com/event/900-am-aging-gracefully-yoga-2-2/2026-05-21/
CATEGORIES:Gentle
END:VEVENT
BEGIN:VEVENT
DTSTART;TZID=America/Los_Angeles:20260528T090000
DTEND;TZID=America/Los_Angeles:20260528T100000
DTSTAMP:20260424T085154
CREATED:20221031T203333Z
LAST-MODIFIED:20260411T020136Z
UID:10001907-1779958800-1779962400@laurayon.com
SUMMARY:Thursday 9:00 am Aging Gracefully Yoga - online
DESCRIPTION:$14 drop-in\, $120 for a 10-class card \nTo register\, https://laurayon.com/appointments/ \n“I was so happy to be in Aging Gracefully today. You and your teaching style are so good and feel so right for maintaining and healing these challenging bodies we live in.”  CF
URL:https://laurayon.com/event/900-am-aging-gracefully-yoga-2-2/2026-05-28/
CATEGORIES:Gentle
END:VEVENT
BEGIN:VEVENT
DTSTART;TZID=America/Los_Angeles:20260604T090000
DTEND;TZID=America/Los_Angeles:20260604T100000
DTSTAMP:20260424T085154
CREATED:20221031T203333Z
LAST-MODIFIED:20260411T020136Z
UID:10001908-1780563600-1780567200@laurayon.com
SUMMARY:Thursday 9:00 am Aging Gracefully Yoga - online
DESCRIPTION:$14 drop-in\, $120 for a 10-class card \nTo register\, https://laurayon.com/appointments/ \n“I was so happy to be in Aging Gracefully today. You and your teaching style are so good and feel so right for maintaining and healing these challenging bodies we live in.”  CF
URL:https://laurayon.com/event/900-am-aging-gracefully-yoga-2-2/2026-06-04/
CATEGORIES:Gentle
END:VEVENT
BEGIN:VEVENT
DTSTART;TZID=America/Los_Angeles:20260611T090000
DTEND;TZID=America/Los_Angeles:20260611T100000
DTSTAMP:20260424T085154
CREATED:20221031T203333Z
LAST-MODIFIED:20260411T020136Z
UID:10001909-1781168400-1781172000@laurayon.com
SUMMARY:Thursday 9:00 am Aging Gracefully Yoga - online
DESCRIPTION:$14 drop-in\, $120 for a 10-class card \nTo register\, https://laurayon.com/appointments/ \n“I was so happy to be in Aging Gracefully today. You and your teaching style are so good and feel so right for maintaining and healing these challenging bodies we live in.”  CF
URL:https://laurayon.com/event/900-am-aging-gracefully-yoga-2-2/2026-06-11/
CATEGORIES:Gentle
END:VEVENT
BEGIN:VEVENT
DTSTART;TZID=America/Los_Angeles:20260618T090000
DTEND;TZID=America/Los_Angeles:20260618T100000
DTSTAMP:20260424T085154
CREATED:20221031T203333Z
LAST-MODIFIED:20260411T020136Z
UID:10001910-1781773200-1781776800@laurayon.com
SUMMARY:Thursday 9:00 am Aging Gracefully Yoga - online
DESCRIPTION:$14 drop-in\, $120 for a 10-class card \nTo register\, https://laurayon.com/appointments/ \n“I was so happy to be in Aging Gracefully today. You and your teaching style are so good and feel so right for maintaining and healing these challenging bodies we live in.”  CF
URL:https://laurayon.com/event/900-am-aging-gracefully-yoga-2-2/2026-06-18/
CATEGORIES:Gentle
END:VEVENT
BEGIN:VEVENT
DTSTART;TZID=America/Los_Angeles:20260625T090000
DTEND;TZID=America/Los_Angeles:20260625T100000
DTSTAMP:20260424T085154
CREATED:20221031T203333Z
LAST-MODIFIED:20260411T020136Z
UID:10001911-1782378000-1782381600@laurayon.com
SUMMARY:Thursday 9:00 am Aging Gracefully Yoga - online
DESCRIPTION:$14 drop-in\, $120 for a 10-class card \nTo register\, https://laurayon.com/appointments/ \n“I was so happy to be in Aging Gracefully today. You and your teaching style are so good and feel so right for maintaining and healing these challenging bodies we live in.”  CF
URL:https://laurayon.com/event/900-am-aging-gracefully-yoga-2-2/2026-06-25/
CATEGORIES:Gentle
END:VEVENT
BEGIN:VEVENT
DTSTART;TZID=America/Los_Angeles:20260702T090000
DTEND;TZID=America/Los_Angeles:20260702T100000
DTSTAMP:20260424T085154
CREATED:20221031T203333Z
LAST-MODIFIED:20260411T020136Z
UID:10001912-1782982800-1782986400@laurayon.com
SUMMARY:Thursday 9:00 am Aging Gracefully Yoga - online
DESCRIPTION:$14 drop-in\, $120 for a 10-class card \nTo register\, https://laurayon.com/appointments/ \n“I was so happy to be in Aging Gracefully today. You and your teaching style are so good and feel so right for maintaining and healing these challenging bodies we live in.”  CF
URL:https://laurayon.com/event/900-am-aging-gracefully-yoga-2-2/2026-07-02/
CATEGORIES:Gentle
END:VEVENT
BEGIN:VEVENT
DTSTART;TZID=America/Los_Angeles:20260709T090000
DTEND;TZID=America/Los_Angeles:20260709T100000
DTSTAMP:20260424T085154
CREATED:20221031T203333Z
LAST-MODIFIED:20260411T020136Z
UID:10001913-1783587600-1783591200@laurayon.com
SUMMARY:Thursday 9:00 am Aging Gracefully Yoga - online
DESCRIPTION:$14 drop-in\, $120 for a 10-class card \nTo register\, https://laurayon.com/appointments/ \n“I was so happy to be in Aging Gracefully today. You and your teaching style are so good and feel so right for maintaining and healing these challenging bodies we live in.”  CF
URL:https://laurayon.com/event/900-am-aging-gracefully-yoga-2-2/2026-07-09/
CATEGORIES:Gentle
END:VEVENT
BEGIN:VEVENT
DTSTART;TZID=America/Los_Angeles:20260716T090000
DTEND;TZID=America/Los_Angeles:20260716T100000
DTSTAMP:20260424T085154
CREATED:20221031T203333Z
LAST-MODIFIED:20260411T020136Z
UID:10001914-1784192400-1784196000@laurayon.com
SUMMARY:Thursday 9:00 am Aging Gracefully Yoga - online
DESCRIPTION:$14 drop-in\, $120 for a 10-class card \nTo register\, https://laurayon.com/appointments/ \n“I was so happy to be in Aging Gracefully today. You and your teaching style are so good and feel so right for maintaining and healing these challenging bodies we live in.”  CF
URL:https://laurayon.com/event/900-am-aging-gracefully-yoga-2-2/2026-07-16/
CATEGORIES:Gentle
END:VEVENT
BEGIN:VEVENT
DTSTART;TZID=America/Los_Angeles:20260723T090000
DTEND;TZID=America/Los_Angeles:20260723T100000
DTSTAMP:20260424T085154
CREATED:20221031T203333Z
LAST-MODIFIED:20260411T020136Z
UID:10001915-1784797200-1784800800@laurayon.com
SUMMARY:Thursday 9:00 am Aging Gracefully Yoga - online
DESCRIPTION:$14 drop-in\, $120 for a 10-class card \nTo register\, https://laurayon.com/appointments/ \n“I was so happy to be in Aging Gracefully today. You and your teaching style are so good and feel so right for maintaining and healing these challenging bodies we live in.”  CF
URL:https://laurayon.com/event/900-am-aging-gracefully-yoga-2-2/2026-07-23/
CATEGORIES:Gentle
END:VEVENT
BEGIN:VEVENT
DTSTART;TZID=America/Los_Angeles:20260730T090000
DTEND;TZID=America/Los_Angeles:20260730T100000
DTSTAMP:20260424T085154
CREATED:20221031T203333Z
LAST-MODIFIED:20260411T020136Z
UID:10001916-1785402000-1785405600@laurayon.com
SUMMARY:Thursday 9:00 am Aging Gracefully Yoga - online
DESCRIPTION:$14 drop-in\, $120 for a 10-class card \nTo register\, https://laurayon.com/appointments/ \n“I was so happy to be in Aging Gracefully today. You and your teaching style are so good and feel so right for maintaining and healing these challenging bodies we live in.”  CF
URL:https://laurayon.com/event/900-am-aging-gracefully-yoga-2-2/2026-07-30/
CATEGORIES:Gentle
END:VEVENT
BEGIN:VEVENT
DTSTART;TZID=America/Los_Angeles:20260806T090000
DTEND;TZID=America/Los_Angeles:20260806T100000
DTSTAMP:20260424T085154
CREATED:20221031T203333Z
LAST-MODIFIED:20260411T020136Z
UID:10001917-1786006800-1786010400@laurayon.com
SUMMARY:Thursday 9:00 am Aging Gracefully Yoga - online
DESCRIPTION:$14 drop-in\, $120 for a 10-class card \nTo register\, https://laurayon.com/appointments/ \n“I was so happy to be in Aging Gracefully today. You and your teaching style are so good and feel so right for maintaining and healing these challenging bodies we live in.”  CF
URL:https://laurayon.com/event/900-am-aging-gracefully-yoga-2-2/2026-08-06/
CATEGORIES:Gentle
END:VEVENT
BEGIN:VEVENT
DTSTART;TZID=America/Los_Angeles:20260813T090000
DTEND;TZID=America/Los_Angeles:20260813T100000
DTSTAMP:20260424T085154
CREATED:20221031T203333Z
LAST-MODIFIED:20260411T020136Z
UID:10001918-1786611600-1786615200@laurayon.com
SUMMARY:Thursday 9:00 am Aging Gracefully Yoga - online
DESCRIPTION:$14 drop-in\, $120 for a 10-class card \nTo register\, https://laurayon.com/appointments/ \n“I was so happy to be in Aging Gracefully today. You and your teaching style are so good and feel so right for maintaining and healing these challenging bodies we live in.”  CF
URL:https://laurayon.com/event/900-am-aging-gracefully-yoga-2-2/2026-08-13/
CATEGORIES:Gentle
END:VEVENT
BEGIN:VEVENT
DTSTART;TZID=America/Los_Angeles:20260820T090000
DTEND;TZID=America/Los_Angeles:20260820T100000
DTSTAMP:20260424T085154
CREATED:20221031T203333Z
LAST-MODIFIED:20260411T020136Z
UID:10001919-1787216400-1787220000@laurayon.com
SUMMARY:Thursday 9:00 am Aging Gracefully Yoga - online
DESCRIPTION:$14 drop-in\, $120 for a 10-class card \nTo register\, https://laurayon.com/appointments/ \n“I was so happy to be in Aging Gracefully today. You and your teaching style are so good and feel so right for maintaining and healing these challenging bodies we live in.”  CF
URL:https://laurayon.com/event/900-am-aging-gracefully-yoga-2-2/2026-08-20/
CATEGORIES:Gentle
END:VEVENT
BEGIN:VEVENT
DTSTART;TZID=America/Los_Angeles:20260827T090000
DTEND;TZID=America/Los_Angeles:20260827T100000
DTSTAMP:20260424T085154
CREATED:20221031T203333Z
LAST-MODIFIED:20260411T020136Z
UID:10001920-1787821200-1787824800@laurayon.com
SUMMARY:Thursday 9:00 am Aging Gracefully Yoga - online
DESCRIPTION:$14 drop-in\, $120 for a 10-class card \nTo register\, https://laurayon.com/appointments/ \n“I was so happy to be in Aging Gracefully today. You and your teaching style are so good and feel so right for maintaining and healing these challenging bodies we live in.”  CF
URL:https://laurayon.com/event/900-am-aging-gracefully-yoga-2-2/2026-08-27/
CATEGORIES:Gentle
END:VEVENT
BEGIN:VEVENT
DTSTART;TZID=America/Los_Angeles:20260903T090000
DTEND;TZID=America/Los_Angeles:20260903T100000
DTSTAMP:20260424T085154
CREATED:20221031T203333Z
LAST-MODIFIED:20260411T020136Z
UID:10001921-1788426000-1788429600@laurayon.com
SUMMARY:Thursday 9:00 am Aging Gracefully Yoga - online
DESCRIPTION:$14 drop-in\, $120 for a 10-class card \nTo register\, https://laurayon.com/appointments/ \n“I was so happy to be in Aging Gracefully today. You and your teaching style are so good and feel so right for maintaining and healing these challenging bodies we live in.”  CF
URL:https://laurayon.com/event/900-am-aging-gracefully-yoga-2-2/2026-09-03/
CATEGORIES:Gentle
END:VEVENT
BEGIN:VEVENT
DTSTART;TZID=America/Los_Angeles:20260910T090000
DTEND;TZID=America/Los_Angeles:20260910T100000
DTSTAMP:20260424T085154
CREATED:20221031T203333Z
LAST-MODIFIED:20260411T020136Z
UID:10001922-1789030800-1789034400@laurayon.com
SUMMARY:Thursday 9:00 am Aging Gracefully Yoga - online
DESCRIPTION:$14 drop-in\, $120 for a 10-class card \nTo register\, https://laurayon.com/appointments/ \n“I was so happy to be in Aging Gracefully today. You and your teaching style are so good and feel so right for maintaining and healing these challenging bodies we live in.”  CF
URL:https://laurayon.com/event/900-am-aging-gracefully-yoga-2-2/2026-09-10/
CATEGORIES:Gentle
END:VEVENT
BEGIN:VEVENT
DTSTART;TZID=America/Los_Angeles:20260924T090000
DTEND;TZID=America/Los_Angeles:20260924T100000
DTSTAMP:20260424T085154
CREATED:20221031T203333Z
LAST-MODIFIED:20260411T020136Z
UID:10001924-1790240400-1790244000@laurayon.com
SUMMARY:Thursday 9:00 am Aging Gracefully Yoga - online
DESCRIPTION:$14 drop-in\, $120 for a 10-class card \nTo register\, https://laurayon.com/appointments/ \n“I was so happy to be in Aging Gracefully today. You and your teaching style are so good and feel so right for maintaining and healing these challenging bodies we live in.”  CF
URL:https://laurayon.com/event/900-am-aging-gracefully-yoga-2-2/2026-09-24/
CATEGORIES:Gentle
END:VEVENT
BEGIN:VEVENT
DTSTART;TZID=America/Los_Angeles:20261001T090000
DTEND;TZID=America/Los_Angeles:20261001T100000
DTSTAMP:20260424T085154
CREATED:20221031T203333Z
LAST-MODIFIED:20260411T020136Z
UID:10001925-1790845200-1790848800@laurayon.com
SUMMARY:Thursday 9:00 am Aging Gracefully Yoga - online
DESCRIPTION:$14 drop-in\, $120 for a 10-class card \nTo register\, https://laurayon.com/appointments/ \n“I was so happy to be in Aging Gracefully today. You and your teaching style are so good and feel so right for maintaining and healing these challenging bodies we live in.”  CF
URL:https://laurayon.com/event/900-am-aging-gracefully-yoga-2-2/2026-10-01/
CATEGORIES:Gentle
END:VEVENT
BEGIN:VEVENT
DTSTART;TZID=America/Los_Angeles:20261008T090000
DTEND;TZID=America/Los_Angeles:20261008T100000
DTSTAMP:20260424T085154
CREATED:20221031T203333Z
LAST-MODIFIED:20260411T020136Z
UID:10001926-1791450000-1791453600@laurayon.com
SUMMARY:Thursday 9:00 am Aging Gracefully Yoga - online
DESCRIPTION:$14 drop-in\, $120 for a 10-class card \nTo register\, https://laurayon.com/appointments/ \n“I was so happy to be in Aging Gracefully today. You and your teaching style are so good and feel so right for maintaining and healing these challenging bodies we live in.”  CF
URL:https://laurayon.com/event/900-am-aging-gracefully-yoga-2-2/2026-10-08/
CATEGORIES:Gentle
END:VEVENT
BEGIN:VEVENT
DTSTART;TZID=America/Los_Angeles:20261015T090000
DTEND;TZID=America/Los_Angeles:20261015T100000
DTSTAMP:20260424T085154
CREATED:20221031T203333Z
LAST-MODIFIED:20260411T020136Z
UID:10001927-1792054800-1792058400@laurayon.com
SUMMARY:Thursday 9:00 am Aging Gracefully Yoga - online
DESCRIPTION:$14 drop-in\, $120 for a 10-class card \nTo register\, https://laurayon.com/appointments/ \n“I was so happy to be in Aging Gracefully today. You and your teaching style are so good and feel so right for maintaining and healing these challenging bodies we live in.”  CF
URL:https://laurayon.com/event/900-am-aging-gracefully-yoga-2-2/2026-10-15/
CATEGORIES:Gentle
END:VEVENT
BEGIN:VEVENT
DTSTART;TZID=America/Los_Angeles:20261022T090000
DTEND;TZID=America/Los_Angeles:20261022T100000
DTSTAMP:20260424T085154
CREATED:20221031T203333Z
LAST-MODIFIED:20260411T020136Z
UID:10001928-1792659600-1792663200@laurayon.com
SUMMARY:Thursday 9:00 am Aging Gracefully Yoga - online
DESCRIPTION:$14 drop-in\, $120 for a 10-class card \nTo register\, https://laurayon.com/appointments/ \n“I was so happy to be in Aging Gracefully today. You and your teaching style are so good and feel so right for maintaining and healing these challenging bodies we live in.”  CF
URL:https://laurayon.com/event/900-am-aging-gracefully-yoga-2-2/2026-10-22/
CATEGORIES:Gentle
END:VEVENT
BEGIN:VEVENT
DTSTART;TZID=America/Los_Angeles:20261029T090000
DTEND;TZID=America/Los_Angeles:20261029T100000
DTSTAMP:20260424T085154
CREATED:20221031T203333Z
LAST-MODIFIED:20260411T020136Z
UID:10001929-1793264400-1793268000@laurayon.com
SUMMARY:Thursday 9:00 am Aging Gracefully Yoga - online
DESCRIPTION:$14 drop-in\, $120 for a 10-class card \nTo register\, https://laurayon.com/appointments/ \n“I was so happy to be in Aging Gracefully today. You and your teaching style are so good and feel so right for maintaining and healing these challenging bodies we live in.”  CF
URL:https://laurayon.com/event/900-am-aging-gracefully-yoga-2-2/2026-10-29/
CATEGORIES:Gentle
END:VEVENT
BEGIN:VEVENT
DTSTART;TZID=America/Los_Angeles:20261105T090000
DTEND;TZID=America/Los_Angeles:20261105T100000
DTSTAMP:20260424T085154
CREATED:20221031T203333Z
LAST-MODIFIED:20260411T020136Z
UID:10001930-1793869200-1793872800@laurayon.com
SUMMARY:Thursday 9:00 am Aging Gracefully Yoga - online
DESCRIPTION:$14 drop-in\, $120 for a 10-class card \nTo register\, https://laurayon.com/appointments/ \n“I was so happy to be in Aging Gracefully today. You and your teaching style are so good and feel so right for maintaining and healing these challenging bodies we live in.”  CF
URL:https://laurayon.com/event/900-am-aging-gracefully-yoga-2-2/2026-11-05/
CATEGORIES:Gentle
END:VEVENT
BEGIN:VEVENT
DTSTART;TZID=America/Los_Angeles:20261112T090000
DTEND;TZID=America/Los_Angeles:20261112T100000
DTSTAMP:20260424T085154
CREATED:20221031T203333Z
LAST-MODIFIED:20260411T020136Z
UID:10001931-1794474000-1794477600@laurayon.com
SUMMARY:Thursday 9:00 am Aging Gracefully Yoga - online
DESCRIPTION:$14 drop-in\, $120 for a 10-class card \nTo register\, https://laurayon.com/appointments/ \n“I was so happy to be in Aging Gracefully today. You and your teaching style are so good and feel so right for maintaining and healing these challenging bodies we live in.”  CF
URL:https://laurayon.com/event/900-am-aging-gracefully-yoga-2-2/2026-11-12/
CATEGORIES:Gentle
END:VEVENT
BEGIN:VEVENT
DTSTART;TZID=America/Los_Angeles:20261119T090000
DTEND;TZID=America/Los_Angeles:20261119T100000
DTSTAMP:20260424T085154
CREATED:20221031T203333Z
LAST-MODIFIED:20260411T020136Z
UID:10001932-1795078800-1795082400@laurayon.com
SUMMARY:Thursday 9:00 am Aging Gracefully Yoga - online
DESCRIPTION:$14 drop-in\, $120 for a 10-class card \nTo register\, https://laurayon.com/appointments/ \n“I was so happy to be in Aging Gracefully today. You and your teaching style are so good and feel so right for maintaining and healing these challenging bodies we live in.”  CF
URL:https://laurayon.com/event/900-am-aging-gracefully-yoga-2-2/2026-11-19/
CATEGORIES:Gentle
END:VEVENT
BEGIN:VEVENT
DTSTART;TZID=America/Los_Angeles:20261126T090000
DTEND;TZID=America/Los_Angeles:20261126T100000
DTSTAMP:20260424T085154
CREATED:20221031T203333Z
LAST-MODIFIED:20260411T020136Z
UID:10001933-1795683600-1795687200@laurayon.com
SUMMARY:Thursday 9:00 am Aging Gracefully Yoga - online
DESCRIPTION:$14 drop-in\, $120 for a 10-class card \nTo register\, https://laurayon.com/appointments/ \n“I was so happy to be in Aging Gracefully today. You and your teaching style are so good and feel so right for maintaining and healing these challenging bodies we live in.”  CF
URL:https://laurayon.com/event/900-am-aging-gracefully-yoga-2-2/2026-11-26/
CATEGORIES:Gentle
END:VEVENT
END:VCALENDAR