BEGIN:VCALENDAR
VERSION:2.0
PRODID:-//Laura Yon - ECPv6.15.20//NONSGML v1.0//EN
CALSCALE:GREGORIAN
METHOD:PUBLISH
X-WR-CALNAME:Laura Yon
X-ORIGINAL-URL:https://laurayon.com
X-WR-CALDESC:Events for Laura Yon
REFRESH-INTERVAL;VALUE=DURATION:PT1H
X-Robots-Tag:noindex
X-PUBLISHED-TTL:PT1H
BEGIN:VTIMEZONE
TZID:America/Los_Angeles
BEGIN:DAYLIGHT
TZOFFSETFROM:-0800
TZOFFSETTO:-0700
TZNAME:PDT
DTSTART:20250309T100000
END:DAYLIGHT
BEGIN:STANDARD
TZOFFSETFROM:-0700
TZOFFSETTO:-0800
TZNAME:PST
DTSTART:20251102T090000
END:STANDARD
BEGIN:DAYLIGHT
TZOFFSETFROM:-0800
TZOFFSETTO:-0700
TZNAME:PDT
DTSTART:20260308T100000
END:DAYLIGHT
BEGIN:STANDARD
TZOFFSETFROM:-0700
TZOFFSETTO:-0800
TZNAME:PST
DTSTART:20261101T090000
END:STANDARD
BEGIN:DAYLIGHT
TZOFFSETFROM:-0800
TZOFFSETTO:-0700
TZNAME:PDT
DTSTART:20270314T100000
END:DAYLIGHT
BEGIN:STANDARD
TZOFFSETFROM:-0700
TZOFFSETTO:-0800
TZNAME:PST
DTSTART:20271107T090000
END:STANDARD
END:VTIMEZONE
BEGIN:VEVENT
DTSTART;TZID=America/Los_Angeles:20260426T090000
DTEND;TZID=America/Los_Angeles:20260426T101500
DTSTAMP:20260424T090224
CREATED:20240107T011224Z
LAST-MODIFIED:20260209T212040Z
UID:10003653-1777194000-1777198500@laurayon.com
SUMMARY:Sunday All Levels Yoga - in person at Blosm Studio - 8050 35th Ave NE Seattle\, WA 98115
DESCRIPTION:Twice per month\, we will gather to practice together at the beautiful Blosm Studio.\n8050 35th Ave NE\, Seattle\, WA 98115\n2026 dates:\nFeb  22\nMarch 8 & 22\nApril 5 & 26\nMay 10\nJune 7 & 21\nJuly 5 & 26\nAug 9 & 23\nSept 6 & 27\nOct 11 & 25\nNov 8 & 22\nDec 6 & 20 \nPlease register with the link below. \n\nAppointments & Registration
URL:https://laurayon.com/event/sunday-in-person-all-levels-yoga/2026-04-26/
LOCATION:Blosm Studio\, 8050 35th Ave NE\, Seattle\, WA\, 98115
CATEGORIES:All Levels
GEO:47.7207468;-122.2980879
X-APPLE-STRUCTURED-LOCATION;VALUE=URI;X-ADDRESS=Blosm Studio 8050 35th Ave NE Seattle WA 98115;X-APPLE-RADIUS=500;X-TITLE=8050 35th Ave NE:geo:-122.2980879,47.7207468
END:VEVENT
BEGIN:VEVENT
DTSTART;TZID=America/Los_Angeles:20260510T090000
DTEND;TZID=America/Los_Angeles:20260510T101500
DTSTAMP:20260424T090224
CREATED:20240107T011224Z
LAST-MODIFIED:20260209T212040Z
UID:10003654-1778403600-1778408100@laurayon.com
SUMMARY:Sunday All Levels Yoga - in person at Blosm Studio - 8050 35th Ave NE Seattle\, WA 98115
DESCRIPTION:Twice per month\, we will gather to practice together at the beautiful Blosm Studio.\n8050 35th Ave NE\, Seattle\, WA 98115\n2026 dates:\nFeb  22\nMarch 8 & 22\nApril 5 & 26\nMay 10\nJune 7 & 21\nJuly 5 & 26\nAug 9 & 23\nSept 6 & 27\nOct 11 & 25\nNov 8 & 22\nDec 6 & 20 \nPlease register with the link below. \n\nAppointments & Registration
URL:https://laurayon.com/event/sunday-in-person-all-levels-yoga/2026-05-10/
LOCATION:Blosm Studio\, 8050 35th Ave NE\, Seattle\, WA\, 98115
CATEGORIES:All Levels
GEO:47.7207468;-122.2980879
X-APPLE-STRUCTURED-LOCATION;VALUE=URI;X-ADDRESS=Blosm Studio 8050 35th Ave NE Seattle WA 98115;X-APPLE-RADIUS=500;X-TITLE=8050 35th Ave NE:geo:-122.2980879,47.7207468
END:VEVENT
BEGIN:VEVENT
DTSTART;TZID=America/Los_Angeles:20260607T090000
DTEND;TZID=America/Los_Angeles:20260607T101500
DTSTAMP:20260424T090224
CREATED:20240107T011224Z
LAST-MODIFIED:20260209T212040Z
UID:10003656-1780822800-1780827300@laurayon.com
SUMMARY:Sunday All Levels Yoga - in person at Blosm Studio - 8050 35th Ave NE Seattle\, WA 98115
DESCRIPTION:Twice per month\, we will gather to practice together at the beautiful Blosm Studio.\n8050 35th Ave NE\, Seattle\, WA 98115\n2026 dates:\nFeb  22\nMarch 8 & 22\nApril 5 & 26\nMay 10\nJune 7 & 21\nJuly 5 & 26\nAug 9 & 23\nSept 6 & 27\nOct 11 & 25\nNov 8 & 22\nDec 6 & 20 \nPlease register with the link below. \n\nAppointments & Registration
URL:https://laurayon.com/event/sunday-in-person-all-levels-yoga/2026-06-07/
LOCATION:Blosm Studio\, 8050 35th Ave NE\, Seattle\, WA\, 98115
CATEGORIES:All Levels
GEO:47.7207468;-122.2980879
X-APPLE-STRUCTURED-LOCATION;VALUE=URI;X-ADDRESS=Blosm Studio 8050 35th Ave NE Seattle WA 98115;X-APPLE-RADIUS=500;X-TITLE=8050 35th Ave NE:geo:-122.2980879,47.7207468
END:VEVENT
BEGIN:VEVENT
DTSTART;TZID=America/Los_Angeles:20260621T090000
DTEND;TZID=America/Los_Angeles:20260621T101500
DTSTAMP:20260424T090224
CREATED:20240107T011224Z
LAST-MODIFIED:20260209T212040Z
UID:10003657-1782032400-1782036900@laurayon.com
SUMMARY:Sunday All Levels Yoga - in person at Blosm Studio - 8050 35th Ave NE Seattle\, WA 98115
DESCRIPTION:Twice per month\, we will gather to practice together at the beautiful Blosm Studio.\n8050 35th Ave NE\, Seattle\, WA 98115\n2026 dates:\nFeb  22\nMarch 8 & 22\nApril 5 & 26\nMay 10\nJune 7 & 21\nJuly 5 & 26\nAug 9 & 23\nSept 6 & 27\nOct 11 & 25\nNov 8 & 22\nDec 6 & 20 \nPlease register with the link below. \n\nAppointments & Registration
URL:https://laurayon.com/event/sunday-in-person-all-levels-yoga/2026-06-21/
LOCATION:Blosm Studio\, 8050 35th Ave NE\, Seattle\, WA\, 98115
CATEGORIES:All Levels
GEO:47.7207468;-122.2980879
X-APPLE-STRUCTURED-LOCATION;VALUE=URI;X-ADDRESS=Blosm Studio 8050 35th Ave NE Seattle WA 98115;X-APPLE-RADIUS=500;X-TITLE=8050 35th Ave NE:geo:-122.2980879,47.7207468
END:VEVENT
BEGIN:VEVENT
DTSTART;TZID=America/Los_Angeles:20260705T090000
DTEND;TZID=America/Los_Angeles:20260705T101500
DTSTAMP:20260424T090224
CREATED:20240107T011224Z
LAST-MODIFIED:20260209T212040Z
UID:10003658-1783242000-1783246500@laurayon.com
SUMMARY:Sunday All Levels Yoga - in person at Blosm Studio - 8050 35th Ave NE Seattle\, WA 98115
DESCRIPTION:Twice per month\, we will gather to practice together at the beautiful Blosm Studio.\n8050 35th Ave NE\, Seattle\, WA 98115\n2026 dates:\nFeb  22\nMarch 8 & 22\nApril 5 & 26\nMay 10\nJune 7 & 21\nJuly 5 & 26\nAug 9 & 23\nSept 6 & 27\nOct 11 & 25\nNov 8 & 22\nDec 6 & 20 \nPlease register with the link below. \n\nAppointments & Registration
URL:https://laurayon.com/event/sunday-in-person-all-levels-yoga/2026-07-05/
LOCATION:Blosm Studio\, 8050 35th Ave NE\, Seattle\, WA\, 98115
CATEGORIES:All Levels
GEO:47.7207468;-122.2980879
X-APPLE-STRUCTURED-LOCATION;VALUE=URI;X-ADDRESS=Blosm Studio 8050 35th Ave NE Seattle WA 98115;X-APPLE-RADIUS=500;X-TITLE=8050 35th Ave NE:geo:-122.2980879,47.7207468
END:VEVENT
BEGIN:VEVENT
DTSTART;TZID=America/Los_Angeles:20260726T090000
DTEND;TZID=America/Los_Angeles:20260726T101500
DTSTAMP:20260424T090224
CREATED:20240107T011224Z
LAST-MODIFIED:20260209T212040Z
UID:10003659-1785056400-1785060900@laurayon.com
SUMMARY:Sunday All Levels Yoga - in person at Blosm Studio - 8050 35th Ave NE Seattle\, WA 98115
DESCRIPTION:Twice per month\, we will gather to practice together at the beautiful Blosm Studio.\n8050 35th Ave NE\, Seattle\, WA 98115\n2026 dates:\nFeb  22\nMarch 8 & 22\nApril 5 & 26\nMay 10\nJune 7 & 21\nJuly 5 & 26\nAug 9 & 23\nSept 6 & 27\nOct 11 & 25\nNov 8 & 22\nDec 6 & 20 \nPlease register with the link below. \n\nAppointments & Registration
URL:https://laurayon.com/event/sunday-in-person-all-levels-yoga/2026-07-26/
LOCATION:Blosm Studio\, 8050 35th Ave NE\, Seattle\, WA\, 98115
CATEGORIES:All Levels
GEO:47.7207468;-122.2980879
X-APPLE-STRUCTURED-LOCATION;VALUE=URI;X-ADDRESS=Blosm Studio 8050 35th Ave NE Seattle WA 98115;X-APPLE-RADIUS=500;X-TITLE=8050 35th Ave NE:geo:-122.2980879,47.7207468
END:VEVENT
BEGIN:VEVENT
DTSTART;TZID=America/Los_Angeles:20260809T090000
DTEND;TZID=America/Los_Angeles:20260809T101500
DTSTAMP:20260424T090224
CREATED:20240107T011224Z
LAST-MODIFIED:20260209T212040Z
UID:10003660-1786266000-1786270500@laurayon.com
SUMMARY:Sunday All Levels Yoga - in person at Blosm Studio - 8050 35th Ave NE Seattle\, WA 98115
DESCRIPTION:Twice per month\, we will gather to practice together at the beautiful Blosm Studio.\n8050 35th Ave NE\, Seattle\, WA 98115\n2026 dates:\nFeb  22\nMarch 8 & 22\nApril 5 & 26\nMay 10\nJune 7 & 21\nJuly 5 & 26\nAug 9 & 23\nSept 6 & 27\nOct 11 & 25\nNov 8 & 22\nDec 6 & 20 \nPlease register with the link below. \n\nAppointments & Registration
URL:https://laurayon.com/event/sunday-in-person-all-levels-yoga/2026-08-09/
LOCATION:Blosm Studio\, 8050 35th Ave NE\, Seattle\, WA\, 98115
CATEGORIES:All Levels
GEO:47.7207468;-122.2980879
X-APPLE-STRUCTURED-LOCATION;VALUE=URI;X-ADDRESS=Blosm Studio 8050 35th Ave NE Seattle WA 98115;X-APPLE-RADIUS=500;X-TITLE=8050 35th Ave NE:geo:-122.2980879,47.7207468
END:VEVENT
BEGIN:VEVENT
DTSTART;TZID=America/Los_Angeles:20260823T090000
DTEND;TZID=America/Los_Angeles:20260823T101500
DTSTAMP:20260424T090224
CREATED:20240107T011224Z
LAST-MODIFIED:20260209T212040Z
UID:10003661-1787475600-1787480100@laurayon.com
SUMMARY:Sunday All Levels Yoga - in person at Blosm Studio - 8050 35th Ave NE Seattle\, WA 98115
DESCRIPTION:Twice per month\, we will gather to practice together at the beautiful Blosm Studio.\n8050 35th Ave NE\, Seattle\, WA 98115\n2026 dates:\nFeb  22\nMarch 8 & 22\nApril 5 & 26\nMay 10\nJune 7 & 21\nJuly 5 & 26\nAug 9 & 23\nSept 6 & 27\nOct 11 & 25\nNov 8 & 22\nDec 6 & 20 \nPlease register with the link below. \n\nAppointments & Registration
URL:https://laurayon.com/event/sunday-in-person-all-levels-yoga/2026-08-23/
LOCATION:Blosm Studio\, 8050 35th Ave NE\, Seattle\, WA\, 98115
CATEGORIES:All Levels
GEO:47.7207468;-122.2980879
X-APPLE-STRUCTURED-LOCATION;VALUE=URI;X-ADDRESS=Blosm Studio 8050 35th Ave NE Seattle WA 98115;X-APPLE-RADIUS=500;X-TITLE=8050 35th Ave NE:geo:-122.2980879,47.7207468
END:VEVENT
BEGIN:VEVENT
DTSTART;TZID=America/Los_Angeles:20260906T090000
DTEND;TZID=America/Los_Angeles:20260906T101500
DTSTAMP:20260424T090224
CREATED:20240107T011224Z
LAST-MODIFIED:20260209T212040Z
UID:10003662-1788685200-1788689700@laurayon.com
SUMMARY:Sunday All Levels Yoga - in person at Blosm Studio - 8050 35th Ave NE Seattle\, WA 98115
DESCRIPTION:Twice per month\, we will gather to practice together at the beautiful Blosm Studio.\n8050 35th Ave NE\, Seattle\, WA 98115\n2026 dates:\nFeb  22\nMarch 8 & 22\nApril 5 & 26\nMay 10\nJune 7 & 21\nJuly 5 & 26\nAug 9 & 23\nSept 6 & 27\nOct 11 & 25\nNov 8 & 22\nDec 6 & 20 \nPlease register with the link below. \n\nAppointments & Registration
URL:https://laurayon.com/event/sunday-in-person-all-levels-yoga/2026-09-06/
LOCATION:Blosm Studio\, 8050 35th Ave NE\, Seattle\, WA\, 98115
CATEGORIES:All Levels
GEO:47.7207468;-122.2980879
X-APPLE-STRUCTURED-LOCATION;VALUE=URI;X-ADDRESS=Blosm Studio 8050 35th Ave NE Seattle WA 98115;X-APPLE-RADIUS=500;X-TITLE=8050 35th Ave NE:geo:-122.2980879,47.7207468
END:VEVENT
BEGIN:VEVENT
DTSTART;TZID=America/Los_Angeles:20260927T090000
DTEND;TZID=America/Los_Angeles:20260927T101500
DTSTAMP:20260424T090224
CREATED:20240107T011224Z
LAST-MODIFIED:20260209T212040Z
UID:10003663-1790499600-1790504100@laurayon.com
SUMMARY:Sunday All Levels Yoga - in person at Blosm Studio - 8050 35th Ave NE Seattle\, WA 98115
DESCRIPTION:Twice per month\, we will gather to practice together at the beautiful Blosm Studio.\n8050 35th Ave NE\, Seattle\, WA 98115\n2026 dates:\nFeb  22\nMarch 8 & 22\nApril 5 & 26\nMay 10\nJune 7 & 21\nJuly 5 & 26\nAug 9 & 23\nSept 6 & 27\nOct 11 & 25\nNov 8 & 22\nDec 6 & 20 \nPlease register with the link below. \n\nAppointments & Registration
URL:https://laurayon.com/event/sunday-in-person-all-levels-yoga/2026-09-27/
LOCATION:Blosm Studio\, 8050 35th Ave NE\, Seattle\, WA\, 98115
CATEGORIES:All Levels
GEO:47.7207468;-122.2980879
X-APPLE-STRUCTURED-LOCATION;VALUE=URI;X-ADDRESS=Blosm Studio 8050 35th Ave NE Seattle WA 98115;X-APPLE-RADIUS=500;X-TITLE=8050 35th Ave NE:geo:-122.2980879,47.7207468
END:VEVENT
BEGIN:VEVENT
DTSTART;TZID=America/Los_Angeles:20261011T090000
DTEND;TZID=America/Los_Angeles:20261011T101500
DTSTAMP:20260424T090224
CREATED:20240107T011224Z
LAST-MODIFIED:20260209T212040Z
UID:10003664-1791709200-1791713700@laurayon.com
SUMMARY:Sunday All Levels Yoga - in person at Blosm Studio - 8050 35th Ave NE Seattle\, WA 98115
DESCRIPTION:Twice per month\, we will gather to practice together at the beautiful Blosm Studio.\n8050 35th Ave NE\, Seattle\, WA 98115\n2026 dates:\nFeb  22\nMarch 8 & 22\nApril 5 & 26\nMay 10\nJune 7 & 21\nJuly 5 & 26\nAug 9 & 23\nSept 6 & 27\nOct 11 & 25\nNov 8 & 22\nDec 6 & 20 \nPlease register with the link below. \n\nAppointments & Registration
URL:https://laurayon.com/event/sunday-in-person-all-levels-yoga/2026-10-11/
LOCATION:Blosm Studio\, 8050 35th Ave NE\, Seattle\, WA\, 98115
CATEGORIES:All Levels
GEO:47.7207468;-122.2980879
X-APPLE-STRUCTURED-LOCATION;VALUE=URI;X-ADDRESS=Blosm Studio 8050 35th Ave NE Seattle WA 98115;X-APPLE-RADIUS=500;X-TITLE=8050 35th Ave NE:geo:-122.2980879,47.7207468
END:VEVENT
BEGIN:VEVENT
DTSTART;TZID=America/Los_Angeles:20261025T090000
DTEND;TZID=America/Los_Angeles:20261025T101500
DTSTAMP:20260424T090224
CREATED:20240107T011224Z
LAST-MODIFIED:20260209T212040Z
UID:10003665-1792918800-1792923300@laurayon.com
SUMMARY:Sunday All Levels Yoga - in person at Blosm Studio - 8050 35th Ave NE Seattle\, WA 98115
DESCRIPTION:Twice per month\, we will gather to practice together at the beautiful Blosm Studio.\n8050 35th Ave NE\, Seattle\, WA 98115\n2026 dates:\nFeb  22\nMarch 8 & 22\nApril 5 & 26\nMay 10\nJune 7 & 21\nJuly 5 & 26\nAug 9 & 23\nSept 6 & 27\nOct 11 & 25\nNov 8 & 22\nDec 6 & 20 \nPlease register with the link below. \n\nAppointments & Registration
URL:https://laurayon.com/event/sunday-in-person-all-levels-yoga/2026-10-25/
LOCATION:Blosm Studio\, 8050 35th Ave NE\, Seattle\, WA\, 98115
CATEGORIES:All Levels
GEO:47.7207468;-122.2980879
X-APPLE-STRUCTURED-LOCATION;VALUE=URI;X-ADDRESS=Blosm Studio 8050 35th Ave NE Seattle WA 98115;X-APPLE-RADIUS=500;X-TITLE=8050 35th Ave NE:geo:-122.2980879,47.7207468
END:VEVENT
BEGIN:VEVENT
DTSTART;TZID=America/Los_Angeles:20261108T090000
DTEND;TZID=America/Los_Angeles:20261108T101500
DTSTAMP:20260424T090224
CREATED:20240107T011224Z
LAST-MODIFIED:20260209T212040Z
UID:10003666-1794128400-1794132900@laurayon.com
SUMMARY:Sunday All Levels Yoga - in person at Blosm Studio - 8050 35th Ave NE Seattle\, WA 98115
DESCRIPTION:Twice per month\, we will gather to practice together at the beautiful Blosm Studio.\n8050 35th Ave NE\, Seattle\, WA 98115\n2026 dates:\nFeb  22\nMarch 8 & 22\nApril 5 & 26\nMay 10\nJune 7 & 21\nJuly 5 & 26\nAug 9 & 23\nSept 6 & 27\nOct 11 & 25\nNov 8 & 22\nDec 6 & 20 \nPlease register with the link below. \n\nAppointments & Registration
URL:https://laurayon.com/event/sunday-in-person-all-levels-yoga/2026-11-08/
LOCATION:Blosm Studio\, 8050 35th Ave NE\, Seattle\, WA\, 98115
CATEGORIES:All Levels
GEO:47.7207468;-122.2980879
X-APPLE-STRUCTURED-LOCATION;VALUE=URI;X-ADDRESS=Blosm Studio 8050 35th Ave NE Seattle WA 98115;X-APPLE-RADIUS=500;X-TITLE=8050 35th Ave NE:geo:-122.2980879,47.7207468
END:VEVENT
BEGIN:VEVENT
DTSTART;TZID=America/Los_Angeles:20261122T090000
DTEND;TZID=America/Los_Angeles:20261122T101500
DTSTAMP:20260424T090224
CREATED:20240107T011224Z
LAST-MODIFIED:20260209T212040Z
UID:10003667-1795338000-1795342500@laurayon.com
SUMMARY:Sunday All Levels Yoga - in person at Blosm Studio - 8050 35th Ave NE Seattle\, WA 98115
DESCRIPTION:Twice per month\, we will gather to practice together at the beautiful Blosm Studio.\n8050 35th Ave NE\, Seattle\, WA 98115\n2026 dates:\nFeb  22\nMarch 8 & 22\nApril 5 & 26\nMay 10\nJune 7 & 21\nJuly 5 & 26\nAug 9 & 23\nSept 6 & 27\nOct 11 & 25\nNov 8 & 22\nDec 6 & 20 \nPlease register with the link below. \n\nAppointments & Registration
URL:https://laurayon.com/event/sunday-in-person-all-levels-yoga/2026-11-22/
LOCATION:Blosm Studio\, 8050 35th Ave NE\, Seattle\, WA\, 98115
CATEGORIES:All Levels
GEO:47.7207468;-122.2980879
X-APPLE-STRUCTURED-LOCATION;VALUE=URI;X-ADDRESS=Blosm Studio 8050 35th Ave NE Seattle WA 98115;X-APPLE-RADIUS=500;X-TITLE=8050 35th Ave NE:geo:-122.2980879,47.7207468
END:VEVENT
BEGIN:VEVENT
DTSTART;TZID=America/Los_Angeles:20261206T090000
DTEND;TZID=America/Los_Angeles:20261206T101500
DTSTAMP:20260424T090224
CREATED:20240107T011224Z
LAST-MODIFIED:20260209T212040Z
UID:10003668-1796547600-1796552100@laurayon.com
SUMMARY:Sunday All Levels Yoga - in person at Blosm Studio - 8050 35th Ave NE Seattle\, WA 98115
DESCRIPTION:Twice per month\, we will gather to practice together at the beautiful Blosm Studio.\n8050 35th Ave NE\, Seattle\, WA 98115\n2026 dates:\nFeb  22\nMarch 8 & 22\nApril 5 & 26\nMay 10\nJune 7 & 21\nJuly 5 & 26\nAug 9 & 23\nSept 6 & 27\nOct 11 & 25\nNov 8 & 22\nDec 6 & 20 \nPlease register with the link below. \n\nAppointments & Registration
URL:https://laurayon.com/event/sunday-in-person-all-levels-yoga/2026-12-06/
LOCATION:Blosm Studio\, 8050 35th Ave NE\, Seattle\, WA\, 98115
CATEGORIES:All Levels
GEO:47.7207468;-122.2980879
X-APPLE-STRUCTURED-LOCATION;VALUE=URI;X-ADDRESS=Blosm Studio 8050 35th Ave NE Seattle WA 98115;X-APPLE-RADIUS=500;X-TITLE=8050 35th Ave NE:geo:-122.2980879,47.7207468
END:VEVENT
BEGIN:VEVENT
DTSTART;TZID=America/Los_Angeles:20261220T090000
DTEND;TZID=America/Los_Angeles:20261220T101600
DTSTAMP:20260424T090224
CREATED:20240107T011224Z
LAST-MODIFIED:20260209T212040Z
UID:10003669-1797757200-1797761760@laurayon.com
SUMMARY:Sunday All Levels Yoga - in person at Blosm Studio - 8050 35th Ave NE Seattle\, WA 98115
DESCRIPTION:Twice per month\, we will gather to practice together at the beautiful Blosm Studio.\n8050 35th Ave NE\, Seattle\, WA 98115\n2026 dates:\nFeb  22\nMarch 8 & 22\nApril 5 & 26\nMay 10\nJune 7 & 21\nJuly 5 & 26\nAug 9 & 23\nSept 6 & 27\nOct 11 & 25\nNov 8 & 22\nDec 6 & 20 \nPlease register with the link below. \n\nAppointments & Registration
URL:https://laurayon.com/event/sunday-in-person-all-levels-yoga/2026-12-20/
LOCATION:Blosm Studio\, 8050 35th Ave NE\, Seattle\, WA\, 98115
CATEGORIES:All Levels
GEO:47.7207468;-122.2980879
X-APPLE-STRUCTURED-LOCATION;VALUE=URI;X-ADDRESS=Blosm Studio 8050 35th Ave NE Seattle WA 98115;X-APPLE-RADIUS=500;X-TITLE=8050 35th Ave NE:geo:-122.2980879,47.7207468
END:VEVENT
END:VCALENDAR