BEGIN:VCALENDAR
VERSION:2.0
PRODID:-//Laura Yon - ECPv6.15.20//NONSGML v1.0//EN
CALSCALE:GREGORIAN
METHOD:PUBLISH
X-ORIGINAL-URL:https://laurayon.com
X-WR-CALDESC:Events for Laura Yon
REFRESH-INTERVAL;VALUE=DURATION:PT1H
X-Robots-Tag:noindex
X-PUBLISHED-TTL:PT1H
BEGIN:VTIMEZONE
TZID:America/Los_Angeles
BEGIN:DAYLIGHT
TZOFFSETFROM:-0800
TZOFFSETTO:-0700
TZNAME:PDT
DTSTART:20250309T100000
END:DAYLIGHT
BEGIN:STANDARD
TZOFFSETFROM:-0700
TZOFFSETTO:-0800
TZNAME:PST
DTSTART:20251102T090000
END:STANDARD
BEGIN:DAYLIGHT
TZOFFSETFROM:-0800
TZOFFSETTO:-0700
TZNAME:PDT
DTSTART:20260308T100000
END:DAYLIGHT
BEGIN:STANDARD
TZOFFSETFROM:-0700
TZOFFSETTO:-0800
TZNAME:PST
DTSTART:20261101T090000
END:STANDARD
BEGIN:DAYLIGHT
TZOFFSETFROM:-0800
TZOFFSETTO:-0700
TZNAME:PDT
DTSTART:20270314T100000
END:DAYLIGHT
BEGIN:STANDARD
TZOFFSETFROM:-0700
TZOFFSETTO:-0800
TZNAME:PST
DTSTART:20271107T090000
END:STANDARD
END:VTIMEZONE
BEGIN:VEVENT
DTSTART;TZID=America/Los_Angeles:20260212T180000
DTEND;TZID=America/Los_Angeles:20260212T200000
DTSTAMP:20260424T151325
CREATED:20260107T025434Z
LAST-MODIFIED:20260107T030100Z
UID:10003702-1770919200-1770926400@laurayon.com
SUMMARY:Bereavement Intro Class - online
DESCRIPTION:This live\, online introductory\, educational class offers a gentle\, supportive overview of the grief process\, helping participants understand common responses to loss while normalizing their unique experience. You’ll be introduced to compassionate tools\, reflective practices and resources to support you in navigating grief with greater steadiness and self-kindness. \nThis class is free of charge. Please register HERE \nLaura will co-facilitate with Trisha Wilkerson\, a Holistic Health Coach\, Yoga Instructor and Bereavement Group Facilitator
URL:https://laurayon.com/event/bereavement-intro-class-online/
LOCATION:online
CATEGORIES:Special Event
END:VEVENT
END:VCALENDAR